BEGIN:VCALENDAR
VERSION:2.0
PRODID:-//Schlaatz - ECPv6.15.20//NONSGML v1.0//EN
CALSCALE:GREGORIAN
METHOD:PUBLISH
X-WR-CALNAME:Schlaatz
X-ORIGINAL-URL:https://schlaatz.de
X-WR-CALDESC:Veranstaltungen für Schlaatz
REFRESH-INTERVAL;VALUE=DURATION:PT1H
X-Robots-Tag:noindex
X-PUBLISHED-TTL:PT1H
BEGIN:VTIMEZONE
TZID:Europe/Berlin
BEGIN:DAYLIGHT
TZOFFSETFROM:+0100
TZOFFSETTO:+0200
TZNAME:CEST
DTSTART:20250330T010000
END:DAYLIGHT
BEGIN:STANDARD
TZOFFSETFROM:+0200
TZOFFSETTO:+0100
TZNAME:CET
DTSTART:20251026T010000
END:STANDARD
BEGIN:DAYLIGHT
TZOFFSETFROM:+0100
TZOFFSETTO:+0200
TZNAME:CEST
DTSTART:20260329T010000
END:DAYLIGHT
BEGIN:STANDARD
TZOFFSETFROM:+0200
TZOFFSETTO:+0100
TZNAME:CET
DTSTART:20261025T010000
END:STANDARD
BEGIN:DAYLIGHT
TZOFFSETFROM:+0100
TZOFFSETTO:+0200
TZNAME:CEST
DTSTART:20270328T010000
END:DAYLIGHT
BEGIN:STANDARD
TZOFFSETFROM:+0200
TZOFFSETTO:+0100
TZNAME:CET
DTSTART:20271031T010000
END:STANDARD
END:VTIMEZONE
BEGIN:VEVENT
DTSTART;TZID=Europe/Berlin:20260422T090000
DTEND;TZID=Europe/Berlin:20260422T100000
DTSTAMP:20260420T094600
CREATED:20260126T091404Z
LAST-MODIFIED:20260126T091405Z
UID:10002131-1776848400-1776852000@schlaatz.de
SUMMARY:Denksport für Senior:innen
DESCRIPTION:Jeden Mittwoch 9-10 Uhr findet im Friedrich-Reinsch-Haus Denksport für Senior:innen statt. Wir spielen\, unterhalten uns und sprechen aktuelle Themen an. Denksport ist gerade für ältere Menschen wichtig\, denn die „grauen Zellen“ müssen gefordert werden. \n\n\n\nJeder Interessierte ist herzlichst eingeladen.
URL:https://schlaatz.de/veranstaltung/denksport-fuer-seniorinnen/2026-04-22/
LOCATION:Friedrich Reinsch Haus\, Milanhorst 9\, Potsdam\, 14478
ATTACH;FMTTYPE=image/jpeg:https://schlaatz.de/wp-content/uploads/2026/01/Denksport-1.jpg
ORGANIZER;CN="Friedrich Reinsch Haus":MAILTO:o.ronis@milanhorst-potsdam.de
END:VEVENT
BEGIN:VEVENT
DTSTART;TZID=Europe/Berlin:20260429T090000
DTEND;TZID=Europe/Berlin:20260429T100000
DTSTAMP:20260420T094600
CREATED:20260126T091404Z
LAST-MODIFIED:20260126T091405Z
UID:10002132-1777453200-1777456800@schlaatz.de
SUMMARY:Denksport für Senior:innen
DESCRIPTION:Jeden Mittwoch 9-10 Uhr findet im Friedrich-Reinsch-Haus Denksport für Senior:innen statt. Wir spielen\, unterhalten uns und sprechen aktuelle Themen an. Denksport ist gerade für ältere Menschen wichtig\, denn die „grauen Zellen“ müssen gefordert werden. \n\n\n\nJeder Interessierte ist herzlichst eingeladen.
URL:https://schlaatz.de/veranstaltung/denksport-fuer-seniorinnen/2026-04-29/
LOCATION:Friedrich Reinsch Haus\, Milanhorst 9\, Potsdam\, 14478
ATTACH;FMTTYPE=image/jpeg:https://schlaatz.de/wp-content/uploads/2026/01/Denksport-1.jpg
ORGANIZER;CN="Friedrich Reinsch Haus":MAILTO:o.ronis@milanhorst-potsdam.de
END:VEVENT
BEGIN:VEVENT
DTSTART;TZID=Europe/Berlin:20260506T090000
DTEND;TZID=Europe/Berlin:20260506T100000
DTSTAMP:20260420T094600
CREATED:20260126T091404Z
LAST-MODIFIED:20260126T091405Z
UID:10002133-1778058000-1778061600@schlaatz.de
SUMMARY:Denksport für Senior:innen
DESCRIPTION:Jeden Mittwoch 9-10 Uhr findet im Friedrich-Reinsch-Haus Denksport für Senior:innen statt. Wir spielen\, unterhalten uns und sprechen aktuelle Themen an. Denksport ist gerade für ältere Menschen wichtig\, denn die „grauen Zellen“ müssen gefordert werden. \n\n\n\nJeder Interessierte ist herzlichst eingeladen.
URL:https://schlaatz.de/veranstaltung/denksport-fuer-seniorinnen/2026-05-06/
LOCATION:Friedrich Reinsch Haus\, Milanhorst 9\, Potsdam\, 14478
ATTACH;FMTTYPE=image/jpeg:https://schlaatz.de/wp-content/uploads/2026/01/Denksport-1.jpg
ORGANIZER;CN="Friedrich Reinsch Haus":MAILTO:o.ronis@milanhorst-potsdam.de
END:VEVENT
BEGIN:VEVENT
DTSTART;TZID=Europe/Berlin:20260513T090000
DTEND;TZID=Europe/Berlin:20260513T100000
DTSTAMP:20260420T094600
CREATED:20260126T091404Z
LAST-MODIFIED:20260126T091405Z
UID:10002134-1778662800-1778666400@schlaatz.de
SUMMARY:Denksport für Senior:innen
DESCRIPTION:Jeden Mittwoch 9-10 Uhr findet im Friedrich-Reinsch-Haus Denksport für Senior:innen statt. Wir spielen\, unterhalten uns und sprechen aktuelle Themen an. Denksport ist gerade für ältere Menschen wichtig\, denn die „grauen Zellen“ müssen gefordert werden. \n\n\n\nJeder Interessierte ist herzlichst eingeladen.
URL:https://schlaatz.de/veranstaltung/denksport-fuer-seniorinnen/2026-05-13/
LOCATION:Friedrich Reinsch Haus\, Milanhorst 9\, Potsdam\, 14478
ATTACH;FMTTYPE=image/jpeg:https://schlaatz.de/wp-content/uploads/2026/01/Denksport-1.jpg
ORGANIZER;CN="Friedrich Reinsch Haus":MAILTO:o.ronis@milanhorst-potsdam.de
END:VEVENT
BEGIN:VEVENT
DTSTART;TZID=Europe/Berlin:20260520T090000
DTEND;TZID=Europe/Berlin:20260520T100000
DTSTAMP:20260420T094600
CREATED:20260126T091404Z
LAST-MODIFIED:20260126T091405Z
UID:10002135-1779267600-1779271200@schlaatz.de
SUMMARY:Denksport für Senior:innen
DESCRIPTION:Jeden Mittwoch 9-10 Uhr findet im Friedrich-Reinsch-Haus Denksport für Senior:innen statt. Wir spielen\, unterhalten uns und sprechen aktuelle Themen an. Denksport ist gerade für ältere Menschen wichtig\, denn die „grauen Zellen“ müssen gefordert werden. \n\n\n\nJeder Interessierte ist herzlichst eingeladen.
URL:https://schlaatz.de/veranstaltung/denksport-fuer-seniorinnen/2026-05-20/
LOCATION:Friedrich Reinsch Haus\, Milanhorst 9\, Potsdam\, 14478
ATTACH;FMTTYPE=image/jpeg:https://schlaatz.de/wp-content/uploads/2026/01/Denksport-1.jpg
ORGANIZER;CN="Friedrich Reinsch Haus":MAILTO:o.ronis@milanhorst-potsdam.de
END:VEVENT
BEGIN:VEVENT
DTSTART;TZID=Europe/Berlin:20260527T090000
DTEND;TZID=Europe/Berlin:20260527T100000
DTSTAMP:20260420T094600
CREATED:20260126T091404Z
LAST-MODIFIED:20260126T091405Z
UID:10002136-1779872400-1779876000@schlaatz.de
SUMMARY:Denksport für Senior:innen
DESCRIPTION:Jeden Mittwoch 9-10 Uhr findet im Friedrich-Reinsch-Haus Denksport für Senior:innen statt. Wir spielen\, unterhalten uns und sprechen aktuelle Themen an. Denksport ist gerade für ältere Menschen wichtig\, denn die „grauen Zellen“ müssen gefordert werden. \n\n\n\nJeder Interessierte ist herzlichst eingeladen.
URL:https://schlaatz.de/veranstaltung/denksport-fuer-seniorinnen/2026-05-27/
LOCATION:Friedrich Reinsch Haus\, Milanhorst 9\, Potsdam\, 14478
ATTACH;FMTTYPE=image/jpeg:https://schlaatz.de/wp-content/uploads/2026/01/Denksport-1.jpg
ORGANIZER;CN="Friedrich Reinsch Haus":MAILTO:o.ronis@milanhorst-potsdam.de
END:VEVENT
BEGIN:VEVENT
DTSTART;TZID=Europe/Berlin:20260603T090000
DTEND;TZID=Europe/Berlin:20260603T100000
DTSTAMP:20260420T094600
CREATED:20260126T091404Z
LAST-MODIFIED:20260126T091405Z
UID:10002137-1780477200-1780480800@schlaatz.de
SUMMARY:Denksport für Senior:innen
DESCRIPTION:Jeden Mittwoch 9-10 Uhr findet im Friedrich-Reinsch-Haus Denksport für Senior:innen statt. Wir spielen\, unterhalten uns und sprechen aktuelle Themen an. Denksport ist gerade für ältere Menschen wichtig\, denn die „grauen Zellen“ müssen gefordert werden. \n\n\n\nJeder Interessierte ist herzlichst eingeladen.
URL:https://schlaatz.de/veranstaltung/denksport-fuer-seniorinnen/2026-06-03/
LOCATION:Friedrich Reinsch Haus\, Milanhorst 9\, Potsdam\, 14478
ATTACH;FMTTYPE=image/jpeg:https://schlaatz.de/wp-content/uploads/2026/01/Denksport-1.jpg
ORGANIZER;CN="Friedrich Reinsch Haus":MAILTO:o.ronis@milanhorst-potsdam.de
END:VEVENT
BEGIN:VEVENT
DTSTART;TZID=Europe/Berlin:20260610T090000
DTEND;TZID=Europe/Berlin:20260610T100000
DTSTAMP:20260420T094600
CREATED:20260126T091404Z
LAST-MODIFIED:20260126T091405Z
UID:10002138-1781082000-1781085600@schlaatz.de
SUMMARY:Denksport für Senior:innen
DESCRIPTION:Jeden Mittwoch 9-10 Uhr findet im Friedrich-Reinsch-Haus Denksport für Senior:innen statt. Wir spielen\, unterhalten uns und sprechen aktuelle Themen an. Denksport ist gerade für ältere Menschen wichtig\, denn die „grauen Zellen“ müssen gefordert werden. \n\n\n\nJeder Interessierte ist herzlichst eingeladen.
URL:https://schlaatz.de/veranstaltung/denksport-fuer-seniorinnen/2026-06-10/
LOCATION:Friedrich Reinsch Haus\, Milanhorst 9\, Potsdam\, 14478
ATTACH;FMTTYPE=image/jpeg:https://schlaatz.de/wp-content/uploads/2026/01/Denksport-1.jpg
ORGANIZER;CN="Friedrich Reinsch Haus":MAILTO:o.ronis@milanhorst-potsdam.de
END:VEVENT
END:VCALENDAR