BEGIN:VCALENDAR
VERSION:2.0
PRODID:-//Schlaatz - ECPv6.15.20//NONSGML v1.0//EN
CALSCALE:GREGORIAN
METHOD:PUBLISH
X-WR-CALNAME:Schlaatz
X-ORIGINAL-URL:https://schlaatz.de
X-WR-CALDESC:Veranstaltungen für Schlaatz
REFRESH-INTERVAL;VALUE=DURATION:PT1H
X-Robots-Tag:noindex
X-PUBLISHED-TTL:PT1H
BEGIN:VTIMEZONE
TZID:Europe/Berlin
BEGIN:DAYLIGHT
TZOFFSETFROM:+0100
TZOFFSETTO:+0200
TZNAME:CEST
DTSTART:20240331T010000
END:DAYLIGHT
BEGIN:STANDARD
TZOFFSETFROM:+0200
TZOFFSETTO:+0100
TZNAME:CET
DTSTART:20241027T010000
END:STANDARD
BEGIN:DAYLIGHT
TZOFFSETFROM:+0100
TZOFFSETTO:+0200
TZNAME:CEST
DTSTART:20250330T010000
END:DAYLIGHT
BEGIN:STANDARD
TZOFFSETFROM:+0200
TZOFFSETTO:+0100
TZNAME:CET
DTSTART:20251026T010000
END:STANDARD
BEGIN:DAYLIGHT
TZOFFSETFROM:+0100
TZOFFSETTO:+0200
TZNAME:CEST
DTSTART:20260329T010000
END:DAYLIGHT
BEGIN:STANDARD
TZOFFSETFROM:+0200
TZOFFSETTO:+0100
TZNAME:CET
DTSTART:20261025T010000
END:STANDARD
END:VTIMEZONE
BEGIN:VEVENT
DTSTART;TZID=Europe/Berlin:20251208T140000
DTEND;TZID=Europe/Berlin:20251208T160000
DTSTAMP:20260420T152532
CREATED:20251117T121850Z
LAST-MODIFIED:20251117T121854Z
UID:10001485-1765202400-1765209600@schlaatz.de
SUMMARY:Café Milan
DESCRIPTION:Nachbarschaftscafé mit Kreativangeboten – Das Nachbarschaftscafé verwandelt sich in der Adventszeit in eine fröhliche und musikalische Runde. Die beiden professionellen Musiker Ralf und Ronald spielen auf mehreren Instrumenten Lieder zur Adventszeit aus verschiedenen Ländern\, laden zum Mitsingen vonbekannten undweniger bekannten Liedern ein und: Wunschliedersingen inklusive! Kleine Kreativangebote machen Lust aufs Nachbasteln zuhause. Eintritt frei\, wir freuen uns über Spenden. Keine Anmeldung erforderlich.
URL:https://schlaatz.de/veranstaltung/cafe-milan-3/2025-12-08/
LOCATION:Friedrich Reinsch Haus\, Milanhorst 9\, Potsdam\, 14478
ATTACH;FMTTYPE=image/jpeg:https://schlaatz.de/wp-content/uploads/2024/10/Cafe-Milan.jpg
ORGANIZER;CN="Friedrich Reinsch Haus":MAILTO:o.ronis@milanhorst-potsdam.de
END:VEVENT
END:VCALENDAR