BEGIN:VCALENDAR
VERSION:2.0
PRODID:-//Schlaatz - ECPv6.15.20//NONSGML v1.0//EN
CALSCALE:GREGORIAN
METHOD:PUBLISH
X-WR-CALNAME:Schlaatz
X-ORIGINAL-URL:https://schlaatz.de
X-WR-CALDESC:Veranstaltungen für Schlaatz
REFRESH-INTERVAL;VALUE=DURATION:PT1H
X-Robots-Tag:noindex
X-PUBLISHED-TTL:PT1H
BEGIN:VTIMEZONE
TZID:Europe/Berlin
BEGIN:DAYLIGHT
TZOFFSETFROM:+0100
TZOFFSETTO:+0200
TZNAME:CEST
DTSTART:20250330T010000
END:DAYLIGHT
BEGIN:STANDARD
TZOFFSETFROM:+0200
TZOFFSETTO:+0100
TZNAME:CET
DTSTART:20251026T010000
END:STANDARD
BEGIN:DAYLIGHT
TZOFFSETFROM:+0100
TZOFFSETTO:+0200
TZNAME:CEST
DTSTART:20260329T010000
END:DAYLIGHT
BEGIN:STANDARD
TZOFFSETFROM:+0200
TZOFFSETTO:+0100
TZNAME:CET
DTSTART:20261025T010000
END:STANDARD
BEGIN:DAYLIGHT
TZOFFSETFROM:+0100
TZOFFSETTO:+0200
TZNAME:CEST
DTSTART:20270328T010000
END:DAYLIGHT
BEGIN:STANDARD
TZOFFSETFROM:+0200
TZOFFSETTO:+0100
TZNAME:CET
DTSTART:20271031T010000
END:STANDARD
END:VTIMEZONE
BEGIN:VEVENT
DTSTART;TZID=Europe/Berlin:20260416T080000
DTEND;TZID=Europe/Berlin:20260416T100000
DTSTAMP:20260420T094135
CREATED:20260126T094545Z
LAST-MODIFIED:20260126T095052Z
UID:10002407-1776326400-1776333600@schlaatz.de
SUMMARY:Elterncafé im Schlaatz
DESCRIPTION:Herzlich willkommen zu unserem Elterncafé in Kooperation mit dem Bürgerhaus am Schlaatz! – Kommt vorbei auf einen Plausch\, zum Austauschen\, Vernetzen….
URL:https://schlaatz.de/veranstaltung/elterncafe-im-schlaatz/2026-04-16/
LOCATION:Bürgerhaus am Schlaatz\, Schilfhof 28\, Potsdam\, 14478\, Deutschland
ATTACH;FMTTYPE=image/png:https://schlaatz.de/wp-content/uploads/2026/01/Elterncafe.png
ORGANIZER;CN="AWO B%C3%BCro Kindermut":MAILTO:buero-kindermut@awo-potsdam.de
END:VEVENT
BEGIN:VEVENT
DTSTART;TZID=Europe/Berlin:20260416T090000
DTEND;TZID=Europe/Berlin:20260416T120000
DTSTAMP:20260420T094135
CREATED:20260126T092355Z
LAST-MODIFIED:20260126T092355Z
UID:10002189-1776330000-1776340800@schlaatz.de
SUMMARY:Das Lerncafé vor Ort
DESCRIPTION:Im Lerncafé üben wir gemeinsam Lesen\, Schreiben\, Rechnen und Englisch.Wir arbeiten auch am Computer und helfen beim Ausfüllen von Formularen. \n\n\n\nWann und wo?\n\n\n\nMittwoch 16:00 – 19:00 Uhr im Friedrich-Reinsch-Haus\, Milanhorst 9 \n\n\n\nDonnerstag 9:00 – 12:00 Uhr im Friedrich-Reinsch-Haus\, Milanhorst 9 \n\n\n\nFür wen?\n\n\n\nUnser Angebot ist für deutschsprechende Erwachsene (ab 16 Jahren)Kostenfrei und ohne Anmeldung \n\n\n\nKontakt:\n\n\n\neMail: info@milanhorst-potsdam.de \, Telefon: 0331 5504169 \n\n\n\nDas Lerncafé ist ein Angebot des Grundbildungszentrums der Volkshochschule Potsdam in Kooperation mit dem Friedrich-Reinsch-Haus \n\n\n\nWir freuen uns auf Sie!
URL:https://schlaatz.de/veranstaltung/das-lerncafe-vor-ort/2026-04-16/
LOCATION:Friedrich Reinsch Haus\, Milanhorst 9\, Potsdam\, 14478
ATTACH;FMTTYPE=image/jpeg:https://schlaatz.de/wp-content/uploads/2026/01/Lerncafe.jpg
ORGANIZER;CN="Friedrich Reinsch Haus":MAILTO:o.ronis@milanhorst-potsdam.de
END:VEVENT
BEGIN:VEVENT
DTSTART;TZID=Europe/Berlin:20260416T140000
DTEND;TZID=Europe/Berlin:20260416T160000
DTSTAMP:20260420T094135
CREATED:20260126T093216Z
LAST-MODIFIED:20260126T093217Z
UID:10002249-1776348000-1776355200@schlaatz.de
SUMMARY:Beratung zu familienunterstützenden Leistungen
DESCRIPTION:Das AWO Büro KINDER8ar)MUT bietet Beratungen zu familienunterstützenden Leistungen. Gern beraten wir Sie zu Themen wie dem Bildungs- und Teilhabepaket (BuT)\, Kinderzuschlag\, Unterhaltsvorschuss\, Wohngeld\, Ferienzuschüsse für Familien und dem Projekt „Wellenreiter“ und helfen bei den Antragstellungen. \n\n\n\nBitte vereinbaren Sie einen Termin.
URL:https://schlaatz.de/veranstaltung/beratung-zu-familienunterstuetzenden-leistungen-4/2026-04-16/
LOCATION:AWO Büro Kindermut\, Babelsberger Straße 12\, Potsdam\, 14473
ATTACH;FMTTYPE=image/jpeg:https://schlaatz.de/wp-content/uploads/2024/04/2020-04-09_AWO_Buero_Kinderarmut_Logo.jpg
ORGANIZER;CN="AWO B%C3%BCro Kindermut":MAILTO:buero-kindermut@awo-potsdam.de
END:VEVENT
END:VCALENDAR