BEGIN:VCALENDAR
VERSION:2.0
PRODID:-//Schlaatz - ECPv6.15.20//NONSGML v1.0//EN
CALSCALE:GREGORIAN
METHOD:PUBLISH
X-WR-CALNAME:Schlaatz
X-ORIGINAL-URL:https://schlaatz.de
X-WR-CALDESC:Veranstaltungen für Schlaatz
REFRESH-INTERVAL;VALUE=DURATION:PT1H
X-Robots-Tag:noindex
X-PUBLISHED-TTL:PT1H
BEGIN:VTIMEZONE
TZID:Europe/Berlin
BEGIN:DAYLIGHT
TZOFFSETFROM:+0100
TZOFFSETTO:+0200
TZNAME:CEST
DTSTART:20250330T010000
END:DAYLIGHT
BEGIN:STANDARD
TZOFFSETFROM:+0200
TZOFFSETTO:+0100
TZNAME:CET
DTSTART:20251026T010000
END:STANDARD
BEGIN:DAYLIGHT
TZOFFSETFROM:+0100
TZOFFSETTO:+0200
TZNAME:CEST
DTSTART:20260329T010000
END:DAYLIGHT
BEGIN:STANDARD
TZOFFSETFROM:+0200
TZOFFSETTO:+0100
TZNAME:CET
DTSTART:20261025T010000
END:STANDARD
BEGIN:DAYLIGHT
TZOFFSETFROM:+0100
TZOFFSETTO:+0200
TZNAME:CEST
DTSTART:20270328T010000
END:DAYLIGHT
BEGIN:STANDARD
TZOFFSETFROM:+0200
TZOFFSETTO:+0100
TZNAME:CET
DTSTART:20271031T010000
END:STANDARD
END:VTIMEZONE
BEGIN:VEVENT
DTSTART;TZID=Europe/Berlin:20260420T090000
DTEND;TZID=Europe/Berlin:20260420T110000
DTSTAMP:20260420T014539
CREATED:20260126T081412Z
LAST-MODIFIED:20260126T081857Z
UID:10001898-1776675600-1776682800@schlaatz.de
SUMMARY:Sozialberatung in der Nachbarschaft
DESCRIPTION:Wir bieten zu unseren Sprechzeiten nach Terminvereinbarung im Friedrich-Reinsch-Haus unsere Unterstützung zu folgenden Themen an: \n\n\n\n\nBürgergeld\n\n\n\nUnterstützung beim Ausfüllen von Anträgen\n\n\n\nWohngeld / Kindergeld / Arbeitslosengeld I und II\n\n\n\nTerminvereinbarung und Internetrecherche zur Terminvergabe der Stadtverwaltung\n\n\n\nDarlehen Miete und Energie\n\n\n\nWeitervermittlung an qualifizierte Beratungsstellen\n\n\n\nHilfe beim Verstehen und Schreiben von Briefen\n\n\n\n\nDie Beratung kann an einigen Terminen auch in russischer Sprache stattfinden.
URL:https://schlaatz.de/veranstaltung/sozialberatung-in-der-nachbarschaft-4/2026-04-20/
LOCATION:Friedrich Reinsch Haus\, Milanhorst 9\, Potsdam\, 14478
ATTACH;FMTTYPE=image/png:https://schlaatz.de/wp-content/uploads/2025/06/p_logo_friedrich-reinsch-haus.png
ORGANIZER;CN="Friedrich Reinsch Haus":MAILTO:o.ronis@milanhorst-potsdam.de
END:VEVENT
BEGIN:VEVENT
DTSTART;TZID=Europe/Berlin:20260420T140000
DTEND;TZID=Europe/Berlin:20260420T160000
DTSTAMP:20260420T014539
CREATED:20260126T083001Z
LAST-MODIFIED:20260126T083002Z
UID:10001955-1776693600-1776700800@schlaatz.de
SUMMARY:Café Milan
DESCRIPTION:In geselliger Runde bei hausgebackenem Kuchen mit den Nachbarinnen und Nachbarn zusammensitzen und sich austauschen\, neue Menschen kennenlernen und kleine jahreszeitliche Basteleien selbst anfertigen – herzlich willkommen in unserem Nachbarschaftscafé!
URL:https://schlaatz.de/veranstaltung/cafe-milan-4/2026-04-20/
LOCATION:Friedrich Reinsch Haus\, Milanhorst 9\, Potsdam\, 14478
ATTACH;FMTTYPE=image/jpeg:https://schlaatz.de/wp-content/uploads/2024/10/Cafe-Milan.jpg
ORGANIZER;CN="Friedrich Reinsch Haus":MAILTO:o.ronis@milanhorst-potsdam.de
END:VEVENT
END:VCALENDAR