BEGIN:VCALENDAR
VERSION:2.0
PRODID:-//Schlaatz - ECPv6.15.20//NONSGML v1.0//EN
CALSCALE:GREGORIAN
METHOD:PUBLISH
X-ORIGINAL-URL:https://schlaatz.de
X-WR-CALDESC:Veranstaltungen für Schlaatz
REFRESH-INTERVAL;VALUE=DURATION:PT1H
X-Robots-Tag:noindex
X-PUBLISHED-TTL:PT1H
BEGIN:VTIMEZONE
TZID:Europe/Berlin
BEGIN:DAYLIGHT
TZOFFSETFROM:+0100
TZOFFSETTO:+0200
TZNAME:CEST
DTSTART:20250330T010000
END:DAYLIGHT
BEGIN:STANDARD
TZOFFSETFROM:+0200
TZOFFSETTO:+0100
TZNAME:CET
DTSTART:20251026T010000
END:STANDARD
BEGIN:DAYLIGHT
TZOFFSETFROM:+0100
TZOFFSETTO:+0200
TZNAME:CEST
DTSTART:20260329T010000
END:DAYLIGHT
BEGIN:STANDARD
TZOFFSETFROM:+0200
TZOFFSETTO:+0100
TZNAME:CET
DTSTART:20261025T010000
END:STANDARD
BEGIN:DAYLIGHT
TZOFFSETFROM:+0100
TZOFFSETTO:+0200
TZNAME:CEST
DTSTART:20270328T010000
END:DAYLIGHT
BEGIN:STANDARD
TZOFFSETFROM:+0200
TZOFFSETTO:+0100
TZNAME:CET
DTSTART:20271031T010000
END:STANDARD
END:VTIMEZONE
BEGIN:VEVENT
DTSTART;TZID=Europe/Berlin:20260703T090000
DTEND;TZID=Europe/Berlin:20260703T140000
DTSTAMP:20260420T152954
CREATED:20260126T093441Z
LAST-MODIFIED:20260126T093442Z
UID:10002298-1783069200-1783087200@schlaatz.de
SUMMARY:Beratung zu familienunterstützenden Leistungen
DESCRIPTION:Das AWO Büro KINDER8ar)MUT bietet Beratungen zu familienunterstützenden Leistungen. Gern beraten wir Sie zu Themen wie dem Bildungs- und Teilhabepaket (BuT)\, Kinderzuschlag\, Unterhaltsvorschuss\, Wohngeld\, Ferienzuschüsse für Familien und dem Projekt „Wellenreiter“ und helfen bei den Antragstellungen. \n\n\n\nBitte vereinbaren Sie einen Termin.
URL:https://schlaatz.de/veranstaltung/beratung-zu-familienunterstuetzenden-leistungen-5/2026-07-03/
LOCATION:AWO Büro Kindermut\, Babelsberger Straße 12\, Potsdam\, 14473
ATTACH;FMTTYPE=image/jpeg:https://schlaatz.de/wp-content/uploads/2024/04/2020-04-09_AWO_Buero_Kinderarmut_Logo.jpg
ORGANIZER;CN="AWO B%C3%BCro Kindermut":MAILTO:buero-kindermut@awo-potsdam.de
END:VEVENT
END:VCALENDAR