BEGIN:VCALENDAR
VERSION:2.0
PRODID:-//Schlaatz - ECPv6.15.20//NONSGML v1.0//EN
CALSCALE:GREGORIAN
METHOD:PUBLISH
X-ORIGINAL-URL:https://schlaatz.de
X-WR-CALDESC:Veranstaltungen für Schlaatz
REFRESH-INTERVAL;VALUE=DURATION:PT1H
X-Robots-Tag:noindex
X-PUBLISHED-TTL:PT1H
BEGIN:VTIMEZONE
TZID:Europe/Berlin
BEGIN:DAYLIGHT
TZOFFSETFROM:+0100
TZOFFSETTO:+0200
TZNAME:CEST
DTSTART:20240331T010000
END:DAYLIGHT
BEGIN:STANDARD
TZOFFSETFROM:+0200
TZOFFSETTO:+0100
TZNAME:CET
DTSTART:20241027T010000
END:STANDARD
BEGIN:DAYLIGHT
TZOFFSETFROM:+0100
TZOFFSETTO:+0200
TZNAME:CEST
DTSTART:20250330T010000
END:DAYLIGHT
BEGIN:STANDARD
TZOFFSETFROM:+0200
TZOFFSETTO:+0100
TZNAME:CET
DTSTART:20251026T010000
END:STANDARD
BEGIN:DAYLIGHT
TZOFFSETFROM:+0100
TZOFFSETTO:+0200
TZNAME:CEST
DTSTART:20260329T010000
END:DAYLIGHT
BEGIN:STANDARD
TZOFFSETFROM:+0200
TZOFFSETTO:+0100
TZNAME:CET
DTSTART:20261025T010000
END:STANDARD
END:VTIMEZONE
BEGIN:VEVENT
DTSTART;TZID=Europe/Berlin:20250225T090000
DTEND;TZID=Europe/Berlin:20250225T150000
DTSTAMP:20260421T020400
CREATED:20240422T084216Z
LAST-MODIFIED:20241217T082415Z
UID:10000532-1740474000-1740495600@schlaatz.de
SUMMARY:Eltern-Kind-Gruppe PLUS
DESCRIPTION:Ein Platz für Kinder\, um erste Freunde zu finden und eine Möglichkeit für Eltern\, Kontakte zu knüpfen und Hilfe bei Erziehungsfragen zu erhalten.  \n\n\n\nKostenfrei | Anmeldung erforderlich
URL:https://schlaatz.de/veranstaltung/eltern-kind-gruppe-plus/2025-02-25/
LOCATION:EJF Familienzentrum Bisamkiez\, Bisamkiez 26\, Potsdam\, 14478
ATTACH;FMTTYPE=image/jpeg:https://schlaatz.de/wp-content/uploads/2024/04/ElternKindGruppe-e1713785805231.jpg
ORGANIZER;CN="EJF Familienzentrum Bisamkiez":MAILTO:familienzentrum.potsdam@ejf.de
END:VEVENT
BEGIN:VEVENT
DTSTART;TZID=Europe/Berlin:20250224T100000
DTEND;TZID=Europe/Berlin:20250224T120000
DTSTAMP:20260421T020400
CREATED:20240422T104221Z
LAST-MODIFIED:20241217T081732Z
UID:10000929-1740391200-1740398400@schlaatz.de
SUMMARY:Nähkurs
DESCRIPTION:„Ran an Nadel und Faden!“ Einfacher hat man eine kreative Tätigkeit noch nicht erlernt. \n\n\n\nEinfacher hat man eine kreative Tätigkeit noch nicht erlernt. Im Nähkurs werden die Grundlagen beim Umgang mit der Nähmaschine oder geschickte Tricks für die „Patchwork-Technik“ erlernt. Gerne können eigene Ideen und Vorschläge mitgebracht werden. Unsere Textilfachfrau geht mit Geduld auf die unterschiedlichen Kenntnisse und Fähigkeiten der Teilnehmerinnen und Teilnehmer ein. Sehr gern können auch eigene Stoffe mitgebracht werden. \n\n\n\nMit Kinderbetreuung
URL:https://schlaatz.de/veranstaltung/naehkurs/2025-02-24/
LOCATION:EJF Familienzentrum Bisamkiez\, Bisamkiez 26\, Potsdam\, 14478
ATTACH;FMTTYPE=image/jpeg:https://schlaatz.de/wp-content/uploads/2024/04/Naehkurs-Familienzentrum.jpg
ORGANIZER;CN="EJF Familienzentrum Bisamkiez":MAILTO:familienzentrum.potsdam@ejf.de
END:VEVENT
BEGIN:VEVENT
DTSTART;TZID=Europe/Berlin:20250224T090000
DTEND;TZID=Europe/Berlin:20250224T150000
DTSTAMP:20260421T020400
CREATED:20240422T084216Z
LAST-MODIFIED:20241217T082415Z
UID:10000531-1740387600-1740409200@schlaatz.de
SUMMARY:Eltern-Kind-Gruppe PLUS
DESCRIPTION:Ein Platz für Kinder\, um erste Freunde zu finden und eine Möglichkeit für Eltern\, Kontakte zu knüpfen und Hilfe bei Erziehungsfragen zu erhalten.  \n\n\n\nKostenfrei | Anmeldung erforderlich
URL:https://schlaatz.de/veranstaltung/eltern-kind-gruppe-plus/2025-02-24/
LOCATION:EJF Familienzentrum Bisamkiez\, Bisamkiez 26\, Potsdam\, 14478
ATTACH;FMTTYPE=image/jpeg:https://schlaatz.de/wp-content/uploads/2024/04/ElternKindGruppe-e1713785805231.jpg
ORGANIZER;CN="EJF Familienzentrum Bisamkiez":MAILTO:familienzentrum.potsdam@ejf.de
END:VEVENT
BEGIN:VEVENT
DTSTART;TZID=Europe/Berlin:20250221T090000
DTEND;TZID=Europe/Berlin:20250221T150000
DTSTAMP:20260421T020400
CREATED:20240422T084216Z
LAST-MODIFIED:20241217T082415Z
UID:10000342-1740128400-1740150000@schlaatz.de
SUMMARY:Eltern-Kind-Gruppe PLUS
DESCRIPTION:Ein Platz für Kinder\, um erste Freunde zu finden und eine Möglichkeit für Eltern\, Kontakte zu knüpfen und Hilfe bei Erziehungsfragen zu erhalten.  \n\n\n\nKostenfrei | Anmeldung erforderlich
URL:https://schlaatz.de/veranstaltung/eltern-kind-gruppe-plus/2025-02-21/
LOCATION:EJF Familienzentrum Bisamkiez\, Bisamkiez 26\, Potsdam\, 14478
ATTACH;FMTTYPE=image/jpeg:https://schlaatz.de/wp-content/uploads/2024/04/ElternKindGruppe-e1713785805231.jpg
ORGANIZER;CN="EJF Familienzentrum Bisamkiez":MAILTO:familienzentrum.potsdam@ejf.de
END:VEVENT
BEGIN:VEVENT
DTSTART;TZID=Europe/Berlin:20250220T090000
DTEND;TZID=Europe/Berlin:20250220T150000
DTSTAMP:20260421T020400
CREATED:20240422T084216Z
LAST-MODIFIED:20241217T082415Z
UID:10000530-1740042000-1740063600@schlaatz.de
SUMMARY:Eltern-Kind-Gruppe PLUS
DESCRIPTION:Ein Platz für Kinder\, um erste Freunde zu finden und eine Möglichkeit für Eltern\, Kontakte zu knüpfen und Hilfe bei Erziehungsfragen zu erhalten.  \n\n\n\nKostenfrei | Anmeldung erforderlich
URL:https://schlaatz.de/veranstaltung/eltern-kind-gruppe-plus/2025-02-20/
LOCATION:EJF Familienzentrum Bisamkiez\, Bisamkiez 26\, Potsdam\, 14478
ATTACH;FMTTYPE=image/jpeg:https://schlaatz.de/wp-content/uploads/2024/04/ElternKindGruppe-e1713785805231.jpg
ORGANIZER;CN="EJF Familienzentrum Bisamkiez":MAILTO:familienzentrum.potsdam@ejf.de
END:VEVENT
BEGIN:VEVENT
DTSTART;TZID=Europe/Berlin:20250219T113000
DTEND;TZID=Europe/Berlin:20250219T130000
DTSTAMP:20260421T020400
CREATED:20240422T092651Z
LAST-MODIFIED:20241217T082306Z
UID:10000866-1739964600-1739970000@schlaatz.de
SUMMARY:Säuglingsgruppe
DESCRIPTION:Die Säuglingsgruppe ist ein Treffpunkt für Sie und ihr Neugeborenes\, ab der 6. Lebenswoche bis einschließlich des 8. Monats. In dieser ersten besonderen Zeit begleiten Sie ihr Kind und lernen seine Bedürfnisse wahrzunehmen und besser kennenzulernen. In der Gruppe haben Sie die Gelegenheit sich mit anderen Eltern und der Kursleitung über Themen wie Schlafen und Trinken auszutauschen. Außerdem erhalten Sie Anregungen\, wie Sie ihr Kind in einer gesunden Entwicklung unterstützen können.
URL:https://schlaatz.de/veranstaltung/saeuglingsgruppe/2025-02-19/
LOCATION:EJF Familienzentrum Bisamkiez\, Bisamkiez 26\, Potsdam\, 14478
ATTACH;FMTTYPE=image/png:https://schlaatz.de/wp-content/uploads/2024/04/image-1.png
ORGANIZER;CN="EJF Familienzentrum Bisamkiez":MAILTO:familienzentrum.potsdam@ejf.de
END:VEVENT
BEGIN:VEVENT
DTSTART;TZID=Europe/Berlin:20250219T093000
DTEND;TZID=Europe/Berlin:20250219T110000
DTSTAMP:20260421T020400
CREATED:20240422T085036Z
LAST-MODIFIED:20241217T082215Z
UID:10000606-1739957400-1739962800@schlaatz.de
SUMMARY:Krabbelgruppe
DESCRIPTION:Der Kurs richtet sich an Eltern und ihre Kinder\, die im Alter von 6 Monaten bis 1 Jahr sind. Bereits ab dem 7. Monat sucht ein Kind bewusst Kontakt zu anderen Personen. Es beobachtet\, lernt und erforscht. Für die Erfüllung dieser Bedürfnisse bietet die Krabbelgruppe einen idealen Ort. Ihr Kind hat die Chance\, mit anderen Kindern zu spielen und erhält Möglichkeiten\, eigene Fähigkeiten auszutesten und neue\, anregende Eindrücke zu gewinnen. Die Krabbelgruppe bietet Gelegenheit\, Kontakt zu anderen Eltern zu knüpfen.
URL:https://schlaatz.de/veranstaltung/krabbelgruppe/2025-02-19/
LOCATION:EJF Familienzentrum Bisamkiez\, Bisamkiez 26\, Potsdam\, 14478
ATTACH;FMTTYPE=image/png:https://schlaatz.de/wp-content/uploads/2024/04/image-e1713786152538.png
ORGANIZER;CN="EJF Familienzentrum Bisamkiez":MAILTO:familienzentrum.potsdam@ejf.de
END:VEVENT
BEGIN:VEVENT
DTSTART;TZID=Europe/Berlin:20250219T090000
DTEND;TZID=Europe/Berlin:20250219T150000
DTSTAMP:20260421T020400
CREATED:20240422T084216Z
LAST-MODIFIED:20241217T082415Z
UID:10000529-1739955600-1739977200@schlaatz.de
SUMMARY:Eltern-Kind-Gruppe PLUS
DESCRIPTION:Ein Platz für Kinder\, um erste Freunde zu finden und eine Möglichkeit für Eltern\, Kontakte zu knüpfen und Hilfe bei Erziehungsfragen zu erhalten.  \n\n\n\nKostenfrei | Anmeldung erforderlich
URL:https://schlaatz.de/veranstaltung/eltern-kind-gruppe-plus/2025-02-19/
LOCATION:EJF Familienzentrum Bisamkiez\, Bisamkiez 26\, Potsdam\, 14478
ATTACH;FMTTYPE=image/jpeg:https://schlaatz.de/wp-content/uploads/2024/04/ElternKindGruppe-e1713785805231.jpg
ORGANIZER;CN="EJF Familienzentrum Bisamkiez":MAILTO:familienzentrum.potsdam@ejf.de
END:VEVENT
BEGIN:VEVENT
DTSTART;TZID=Europe/Berlin:20250218T090000
DTEND;TZID=Europe/Berlin:20250218T150000
DTSTAMP:20260421T020400
CREATED:20240422T084216Z
LAST-MODIFIED:20241217T082415Z
UID:10000528-1739869200-1739890800@schlaatz.de
SUMMARY:Eltern-Kind-Gruppe PLUS
DESCRIPTION:Ein Platz für Kinder\, um erste Freunde zu finden und eine Möglichkeit für Eltern\, Kontakte zu knüpfen und Hilfe bei Erziehungsfragen zu erhalten.  \n\n\n\nKostenfrei | Anmeldung erforderlich
URL:https://schlaatz.de/veranstaltung/eltern-kind-gruppe-plus/2025-02-18/
LOCATION:EJF Familienzentrum Bisamkiez\, Bisamkiez 26\, Potsdam\, 14478
ATTACH;FMTTYPE=image/jpeg:https://schlaatz.de/wp-content/uploads/2024/04/ElternKindGruppe-e1713785805231.jpg
ORGANIZER;CN="EJF Familienzentrum Bisamkiez":MAILTO:familienzentrum.potsdam@ejf.de
END:VEVENT
BEGIN:VEVENT
DTSTART;TZID=Europe/Berlin:20250217T100000
DTEND;TZID=Europe/Berlin:20250217T120000
DTSTAMP:20260421T020400
CREATED:20240422T104221Z
LAST-MODIFIED:20241217T081732Z
UID:10000928-1739786400-1739793600@schlaatz.de
SUMMARY:Nähkurs
DESCRIPTION:„Ran an Nadel und Faden!“ Einfacher hat man eine kreative Tätigkeit noch nicht erlernt. \n\n\n\nEinfacher hat man eine kreative Tätigkeit noch nicht erlernt. Im Nähkurs werden die Grundlagen beim Umgang mit der Nähmaschine oder geschickte Tricks für die „Patchwork-Technik“ erlernt. Gerne können eigene Ideen und Vorschläge mitgebracht werden. Unsere Textilfachfrau geht mit Geduld auf die unterschiedlichen Kenntnisse und Fähigkeiten der Teilnehmerinnen und Teilnehmer ein. Sehr gern können auch eigene Stoffe mitgebracht werden. \n\n\n\nMit Kinderbetreuung
URL:https://schlaatz.de/veranstaltung/naehkurs/2025-02-17/
LOCATION:EJF Familienzentrum Bisamkiez\, Bisamkiez 26\, Potsdam\, 14478
ATTACH;FMTTYPE=image/jpeg:https://schlaatz.de/wp-content/uploads/2024/04/Naehkurs-Familienzentrum.jpg
ORGANIZER;CN="EJF Familienzentrum Bisamkiez":MAILTO:familienzentrum.potsdam@ejf.de
END:VEVENT
BEGIN:VEVENT
DTSTART;TZID=Europe/Berlin:20250217T090000
DTEND;TZID=Europe/Berlin:20250217T150000
DTSTAMP:20260421T020400
CREATED:20240422T084216Z
LAST-MODIFIED:20241217T082415Z
UID:10000527-1739782800-1739804400@schlaatz.de
SUMMARY:Eltern-Kind-Gruppe PLUS
DESCRIPTION:Ein Platz für Kinder\, um erste Freunde zu finden und eine Möglichkeit für Eltern\, Kontakte zu knüpfen und Hilfe bei Erziehungsfragen zu erhalten.  \n\n\n\nKostenfrei | Anmeldung erforderlich
URL:https://schlaatz.de/veranstaltung/eltern-kind-gruppe-plus/2025-02-17/
LOCATION:EJF Familienzentrum Bisamkiez\, Bisamkiez 26\, Potsdam\, 14478
ATTACH;FMTTYPE=image/jpeg:https://schlaatz.de/wp-content/uploads/2024/04/ElternKindGruppe-e1713785805231.jpg
ORGANIZER;CN="EJF Familienzentrum Bisamkiez":MAILTO:familienzentrum.potsdam@ejf.de
END:VEVENT
BEGIN:VEVENT
DTSTART;TZID=Europe/Berlin:20250214T090000
DTEND;TZID=Europe/Berlin:20250214T150000
DTSTAMP:20260421T020400
CREATED:20240422T084216Z
LAST-MODIFIED:20241217T082415Z
UID:10000526-1739523600-1739545200@schlaatz.de
SUMMARY:Eltern-Kind-Gruppe PLUS
DESCRIPTION:Ein Platz für Kinder\, um erste Freunde zu finden und eine Möglichkeit für Eltern\, Kontakte zu knüpfen und Hilfe bei Erziehungsfragen zu erhalten.  \n\n\n\nKostenfrei | Anmeldung erforderlich
URL:https://schlaatz.de/veranstaltung/eltern-kind-gruppe-plus/2025-02-14/
LOCATION:EJF Familienzentrum Bisamkiez\, Bisamkiez 26\, Potsdam\, 14478
ATTACH;FMTTYPE=image/jpeg:https://schlaatz.de/wp-content/uploads/2024/04/ElternKindGruppe-e1713785805231.jpg
ORGANIZER;CN="EJF Familienzentrum Bisamkiez":MAILTO:familienzentrum.potsdam@ejf.de
END:VEVENT
BEGIN:VEVENT
DTSTART;TZID=Europe/Berlin:20250213T090000
DTEND;TZID=Europe/Berlin:20250213T150000
DTSTAMP:20260421T020400
CREATED:20240422T084216Z
LAST-MODIFIED:20241217T082415Z
UID:10000525-1739437200-1739458800@schlaatz.de
SUMMARY:Eltern-Kind-Gruppe PLUS
DESCRIPTION:Ein Platz für Kinder\, um erste Freunde zu finden und eine Möglichkeit für Eltern\, Kontakte zu knüpfen und Hilfe bei Erziehungsfragen zu erhalten.  \n\n\n\nKostenfrei | Anmeldung erforderlich
URL:https://schlaatz.de/veranstaltung/eltern-kind-gruppe-plus/2025-02-13/
LOCATION:EJF Familienzentrum Bisamkiez\, Bisamkiez 26\, Potsdam\, 14478
ATTACH;FMTTYPE=image/jpeg:https://schlaatz.de/wp-content/uploads/2024/04/ElternKindGruppe-e1713785805231.jpg
ORGANIZER;CN="EJF Familienzentrum Bisamkiez":MAILTO:familienzentrum.potsdam@ejf.de
END:VEVENT
BEGIN:VEVENT
DTSTART;TZID=Europe/Berlin:20250212T113000
DTEND;TZID=Europe/Berlin:20250212T130000
DTSTAMP:20260421T020400
CREATED:20240422T092651Z
LAST-MODIFIED:20241217T082306Z
UID:10000865-1739359800-1739365200@schlaatz.de
SUMMARY:Säuglingsgruppe
DESCRIPTION:Die Säuglingsgruppe ist ein Treffpunkt für Sie und ihr Neugeborenes\, ab der 6. Lebenswoche bis einschließlich des 8. Monats. In dieser ersten besonderen Zeit begleiten Sie ihr Kind und lernen seine Bedürfnisse wahrzunehmen und besser kennenzulernen. In der Gruppe haben Sie die Gelegenheit sich mit anderen Eltern und der Kursleitung über Themen wie Schlafen und Trinken auszutauschen. Außerdem erhalten Sie Anregungen\, wie Sie ihr Kind in einer gesunden Entwicklung unterstützen können.
URL:https://schlaatz.de/veranstaltung/saeuglingsgruppe/2025-02-12/
LOCATION:EJF Familienzentrum Bisamkiez\, Bisamkiez 26\, Potsdam\, 14478
ATTACH;FMTTYPE=image/png:https://schlaatz.de/wp-content/uploads/2024/04/image-1.png
ORGANIZER;CN="EJF Familienzentrum Bisamkiez":MAILTO:familienzentrum.potsdam@ejf.de
END:VEVENT
BEGIN:VEVENT
DTSTART;TZID=Europe/Berlin:20250212T093000
DTEND;TZID=Europe/Berlin:20250212T110000
DTSTAMP:20260421T020400
CREATED:20240422T085036Z
LAST-MODIFIED:20241217T082215Z
UID:10000605-1739352600-1739358000@schlaatz.de
SUMMARY:Krabbelgruppe
DESCRIPTION:Der Kurs richtet sich an Eltern und ihre Kinder\, die im Alter von 6 Monaten bis 1 Jahr sind. Bereits ab dem 7. Monat sucht ein Kind bewusst Kontakt zu anderen Personen. Es beobachtet\, lernt und erforscht. Für die Erfüllung dieser Bedürfnisse bietet die Krabbelgruppe einen idealen Ort. Ihr Kind hat die Chance\, mit anderen Kindern zu spielen und erhält Möglichkeiten\, eigene Fähigkeiten auszutesten und neue\, anregende Eindrücke zu gewinnen. Die Krabbelgruppe bietet Gelegenheit\, Kontakt zu anderen Eltern zu knüpfen.
URL:https://schlaatz.de/veranstaltung/krabbelgruppe/2025-02-12/
LOCATION:EJF Familienzentrum Bisamkiez\, Bisamkiez 26\, Potsdam\, 14478
ATTACH;FMTTYPE=image/png:https://schlaatz.de/wp-content/uploads/2024/04/image-e1713786152538.png
ORGANIZER;CN="EJF Familienzentrum Bisamkiez":MAILTO:familienzentrum.potsdam@ejf.de
END:VEVENT
BEGIN:VEVENT
DTSTART;TZID=Europe/Berlin:20250212T090000
DTEND;TZID=Europe/Berlin:20250212T150000
DTSTAMP:20260421T020400
CREATED:20240422T084216Z
LAST-MODIFIED:20241217T082415Z
UID:10000524-1739350800-1739372400@schlaatz.de
SUMMARY:Eltern-Kind-Gruppe PLUS
DESCRIPTION:Ein Platz für Kinder\, um erste Freunde zu finden und eine Möglichkeit für Eltern\, Kontakte zu knüpfen und Hilfe bei Erziehungsfragen zu erhalten.  \n\n\n\nKostenfrei | Anmeldung erforderlich
URL:https://schlaatz.de/veranstaltung/eltern-kind-gruppe-plus/2025-02-12/
LOCATION:EJF Familienzentrum Bisamkiez\, Bisamkiez 26\, Potsdam\, 14478
ATTACH;FMTTYPE=image/jpeg:https://schlaatz.de/wp-content/uploads/2024/04/ElternKindGruppe-e1713785805231.jpg
ORGANIZER;CN="EJF Familienzentrum Bisamkiez":MAILTO:familienzentrum.potsdam@ejf.de
END:VEVENT
BEGIN:VEVENT
DTSTART;TZID=Europe/Berlin:20250211T090000
DTEND;TZID=Europe/Berlin:20250211T150000
DTSTAMP:20260421T020400
CREATED:20240422T084216Z
LAST-MODIFIED:20241217T082415Z
UID:10000340-1739264400-1739286000@schlaatz.de
SUMMARY:Eltern-Kind-Gruppe PLUS
DESCRIPTION:Ein Platz für Kinder\, um erste Freunde zu finden und eine Möglichkeit für Eltern\, Kontakte zu knüpfen und Hilfe bei Erziehungsfragen zu erhalten.  \n\n\n\nKostenfrei | Anmeldung erforderlich
URL:https://schlaatz.de/veranstaltung/eltern-kind-gruppe-plus/2025-02-11/
LOCATION:EJF Familienzentrum Bisamkiez\, Bisamkiez 26\, Potsdam\, 14478
ATTACH;FMTTYPE=image/jpeg:https://schlaatz.de/wp-content/uploads/2024/04/ElternKindGruppe-e1713785805231.jpg
ORGANIZER;CN="EJF Familienzentrum Bisamkiez":MAILTO:familienzentrum.potsdam@ejf.de
END:VEVENT
BEGIN:VEVENT
DTSTART;TZID=Europe/Berlin:20250210T100000
DTEND;TZID=Europe/Berlin:20250210T120000
DTSTAMP:20260421T020400
CREATED:20240422T104221Z
LAST-MODIFIED:20241217T081732Z
UID:10000927-1739181600-1739188800@schlaatz.de
SUMMARY:Nähkurs
DESCRIPTION:„Ran an Nadel und Faden!“ Einfacher hat man eine kreative Tätigkeit noch nicht erlernt. \n\n\n\nEinfacher hat man eine kreative Tätigkeit noch nicht erlernt. Im Nähkurs werden die Grundlagen beim Umgang mit der Nähmaschine oder geschickte Tricks für die „Patchwork-Technik“ erlernt. Gerne können eigene Ideen und Vorschläge mitgebracht werden. Unsere Textilfachfrau geht mit Geduld auf die unterschiedlichen Kenntnisse und Fähigkeiten der Teilnehmerinnen und Teilnehmer ein. Sehr gern können auch eigene Stoffe mitgebracht werden. \n\n\n\nMit Kinderbetreuung
URL:https://schlaatz.de/veranstaltung/naehkurs/2025-02-10/
LOCATION:EJF Familienzentrum Bisamkiez\, Bisamkiez 26\, Potsdam\, 14478
ATTACH;FMTTYPE=image/jpeg:https://schlaatz.de/wp-content/uploads/2024/04/Naehkurs-Familienzentrum.jpg
ORGANIZER;CN="EJF Familienzentrum Bisamkiez":MAILTO:familienzentrum.potsdam@ejf.de
END:VEVENT
BEGIN:VEVENT
DTSTART;TZID=Europe/Berlin:20250210T090000
DTEND;TZID=Europe/Berlin:20250210T150000
DTSTAMP:20260421T020400
CREATED:20240422T084216Z
LAST-MODIFIED:20241217T082415Z
UID:10000523-1739178000-1739199600@schlaatz.de
SUMMARY:Eltern-Kind-Gruppe PLUS
DESCRIPTION:Ein Platz für Kinder\, um erste Freunde zu finden und eine Möglichkeit für Eltern\, Kontakte zu knüpfen und Hilfe bei Erziehungsfragen zu erhalten.  \n\n\n\nKostenfrei | Anmeldung erforderlich
URL:https://schlaatz.de/veranstaltung/eltern-kind-gruppe-plus/2025-02-10/
LOCATION:EJF Familienzentrum Bisamkiez\, Bisamkiez 26\, Potsdam\, 14478
ATTACH;FMTTYPE=image/jpeg:https://schlaatz.de/wp-content/uploads/2024/04/ElternKindGruppe-e1713785805231.jpg
ORGANIZER;CN="EJF Familienzentrum Bisamkiez":MAILTO:familienzentrum.potsdam@ejf.de
END:VEVENT
BEGIN:VEVENT
DTSTART;TZID=Europe/Berlin:20250207T090000
DTEND;TZID=Europe/Berlin:20250207T150000
DTSTAMP:20260421T020400
CREATED:20240422T084216Z
LAST-MODIFIED:20241217T082415Z
UID:10000522-1738918800-1738940400@schlaatz.de
SUMMARY:Eltern-Kind-Gruppe PLUS
DESCRIPTION:Ein Platz für Kinder\, um erste Freunde zu finden und eine Möglichkeit für Eltern\, Kontakte zu knüpfen und Hilfe bei Erziehungsfragen zu erhalten.  \n\n\n\nKostenfrei | Anmeldung erforderlich
URL:https://schlaatz.de/veranstaltung/eltern-kind-gruppe-plus/2025-02-07/
LOCATION:EJF Familienzentrum Bisamkiez\, Bisamkiez 26\, Potsdam\, 14478
ATTACH;FMTTYPE=image/jpeg:https://schlaatz.de/wp-content/uploads/2024/04/ElternKindGruppe-e1713785805231.jpg
ORGANIZER;CN="EJF Familienzentrum Bisamkiez":MAILTO:familienzentrum.potsdam@ejf.de
END:VEVENT
BEGIN:VEVENT
DTSTART;TZID=Europe/Berlin:20250206T090000
DTEND;TZID=Europe/Berlin:20250206T150000
DTSTAMP:20260421T020400
CREATED:20240422T084216Z
LAST-MODIFIED:20241217T082415Z
UID:10000339-1738832400-1738854000@schlaatz.de
SUMMARY:Eltern-Kind-Gruppe PLUS
DESCRIPTION:Ein Platz für Kinder\, um erste Freunde zu finden und eine Möglichkeit für Eltern\, Kontakte zu knüpfen und Hilfe bei Erziehungsfragen zu erhalten.  \n\n\n\nKostenfrei | Anmeldung erforderlich
URL:https://schlaatz.de/veranstaltung/eltern-kind-gruppe-plus/2025-02-06/
LOCATION:EJF Familienzentrum Bisamkiez\, Bisamkiez 26\, Potsdam\, 14478
ATTACH;FMTTYPE=image/jpeg:https://schlaatz.de/wp-content/uploads/2024/04/ElternKindGruppe-e1713785805231.jpg
ORGANIZER;CN="EJF Familienzentrum Bisamkiez":MAILTO:familienzentrum.potsdam@ejf.de
END:VEVENT
BEGIN:VEVENT
DTSTART;TZID=Europe/Berlin:20250205T113000
DTEND;TZID=Europe/Berlin:20250205T130000
DTSTAMP:20260421T020400
CREATED:20240422T092651Z
LAST-MODIFIED:20241217T082306Z
UID:10000864-1738755000-1738760400@schlaatz.de
SUMMARY:Säuglingsgruppe
DESCRIPTION:Die Säuglingsgruppe ist ein Treffpunkt für Sie und ihr Neugeborenes\, ab der 6. Lebenswoche bis einschließlich des 8. Monats. In dieser ersten besonderen Zeit begleiten Sie ihr Kind und lernen seine Bedürfnisse wahrzunehmen und besser kennenzulernen. In der Gruppe haben Sie die Gelegenheit sich mit anderen Eltern und der Kursleitung über Themen wie Schlafen und Trinken auszutauschen. Außerdem erhalten Sie Anregungen\, wie Sie ihr Kind in einer gesunden Entwicklung unterstützen können.
URL:https://schlaatz.de/veranstaltung/saeuglingsgruppe/2025-02-05/
LOCATION:EJF Familienzentrum Bisamkiez\, Bisamkiez 26\, Potsdam\, 14478
ATTACH;FMTTYPE=image/png:https://schlaatz.de/wp-content/uploads/2024/04/image-1.png
ORGANIZER;CN="EJF Familienzentrum Bisamkiez":MAILTO:familienzentrum.potsdam@ejf.de
END:VEVENT
BEGIN:VEVENT
DTSTART;TZID=Europe/Berlin:20250205T093000
DTEND;TZID=Europe/Berlin:20250205T110000
DTSTAMP:20260421T020400
CREATED:20240422T085036Z
LAST-MODIFIED:20241217T082215Z
UID:10000604-1738747800-1738753200@schlaatz.de
SUMMARY:Krabbelgruppe
DESCRIPTION:Der Kurs richtet sich an Eltern und ihre Kinder\, die im Alter von 6 Monaten bis 1 Jahr sind. Bereits ab dem 7. Monat sucht ein Kind bewusst Kontakt zu anderen Personen. Es beobachtet\, lernt und erforscht. Für die Erfüllung dieser Bedürfnisse bietet die Krabbelgruppe einen idealen Ort. Ihr Kind hat die Chance\, mit anderen Kindern zu spielen und erhält Möglichkeiten\, eigene Fähigkeiten auszutesten und neue\, anregende Eindrücke zu gewinnen. Die Krabbelgruppe bietet Gelegenheit\, Kontakt zu anderen Eltern zu knüpfen.
URL:https://schlaatz.de/veranstaltung/krabbelgruppe/2025-02-05/
LOCATION:EJF Familienzentrum Bisamkiez\, Bisamkiez 26\, Potsdam\, 14478
ATTACH;FMTTYPE=image/png:https://schlaatz.de/wp-content/uploads/2024/04/image-e1713786152538.png
ORGANIZER;CN="EJF Familienzentrum Bisamkiez":MAILTO:familienzentrum.potsdam@ejf.de
END:VEVENT
BEGIN:VEVENT
DTSTART;TZID=Europe/Berlin:20250205T090000
DTEND;TZID=Europe/Berlin:20250205T150000
DTSTAMP:20260421T020400
CREATED:20240422T084216Z
LAST-MODIFIED:20241217T082415Z
UID:10000521-1738746000-1738767600@schlaatz.de
SUMMARY:Eltern-Kind-Gruppe PLUS
DESCRIPTION:Ein Platz für Kinder\, um erste Freunde zu finden und eine Möglichkeit für Eltern\, Kontakte zu knüpfen und Hilfe bei Erziehungsfragen zu erhalten.  \n\n\n\nKostenfrei | Anmeldung erforderlich
URL:https://schlaatz.de/veranstaltung/eltern-kind-gruppe-plus/2025-02-05/
LOCATION:EJF Familienzentrum Bisamkiez\, Bisamkiez 26\, Potsdam\, 14478
ATTACH;FMTTYPE=image/jpeg:https://schlaatz.de/wp-content/uploads/2024/04/ElternKindGruppe-e1713785805231.jpg
ORGANIZER;CN="EJF Familienzentrum Bisamkiez":MAILTO:familienzentrum.potsdam@ejf.de
END:VEVENT
BEGIN:VEVENT
DTSTART;TZID=Europe/Berlin:20250204T090000
DTEND;TZID=Europe/Berlin:20250204T150000
DTSTAMP:20260421T020400
CREATED:20240422T084216Z
LAST-MODIFIED:20241217T082415Z
UID:10000520-1738659600-1738681200@schlaatz.de
SUMMARY:Eltern-Kind-Gruppe PLUS
DESCRIPTION:Ein Platz für Kinder\, um erste Freunde zu finden und eine Möglichkeit für Eltern\, Kontakte zu knüpfen und Hilfe bei Erziehungsfragen zu erhalten.  \n\n\n\nKostenfrei | Anmeldung erforderlich
URL:https://schlaatz.de/veranstaltung/eltern-kind-gruppe-plus/2025-02-04/
LOCATION:EJF Familienzentrum Bisamkiez\, Bisamkiez 26\, Potsdam\, 14478
ATTACH;FMTTYPE=image/jpeg:https://schlaatz.de/wp-content/uploads/2024/04/ElternKindGruppe-e1713785805231.jpg
ORGANIZER;CN="EJF Familienzentrum Bisamkiez":MAILTO:familienzentrum.potsdam@ejf.de
END:VEVENT
BEGIN:VEVENT
DTSTART;TZID=Europe/Berlin:20250203T160000
DTEND;TZID=Europe/Berlin:20250203T173000
DTSTAMP:20260421T020400
CREATED:20240422T103720Z
LAST-MODIFIED:20240422T103723Z
UID:10000884-1738598400-1738603800@schlaatz.de
SUMMARY:Treff für Schwangere
DESCRIPTION:Jeden ersten Montag im Monat gibt es einen Treff für Schwangere vom „Netwerk Gesunde Kinder“ im EJF Familienzentrum Bisamkiez. Hier können Schwangere sich begegnen\, austauschen und Fragen stellen. Eine Fachkraft steht leitend und begleitend zur Seite. \n\n\n\nAnmeldung unter: netzwerkgesundekinder-potsdam@evbsozial.de
URL:https://schlaatz.de/veranstaltung/treff-fuer-schwangere/2025-02-03/
LOCATION:EJF Familienzentrum Bisamkiez\, Bisamkiez 26\, Potsdam\, 14478
ATTACH;FMTTYPE=image/png:https://schlaatz.de/wp-content/uploads/2024/04/netzwerk_gesunde_kinder.png.167824.png
ORGANIZER;CN="EJF Familienzentrum Bisamkiez":MAILTO:familienzentrum.potsdam@ejf.de
END:VEVENT
BEGIN:VEVENT
DTSTART;TZID=Europe/Berlin:20250203T100000
DTEND;TZID=Europe/Berlin:20250203T120000
DTSTAMP:20260421T020400
CREATED:20240422T104221Z
LAST-MODIFIED:20241217T081732Z
UID:10000926-1738576800-1738584000@schlaatz.de
SUMMARY:Nähkurs
DESCRIPTION:„Ran an Nadel und Faden!“ Einfacher hat man eine kreative Tätigkeit noch nicht erlernt. \n\n\n\nEinfacher hat man eine kreative Tätigkeit noch nicht erlernt. Im Nähkurs werden die Grundlagen beim Umgang mit der Nähmaschine oder geschickte Tricks für die „Patchwork-Technik“ erlernt. Gerne können eigene Ideen und Vorschläge mitgebracht werden. Unsere Textilfachfrau geht mit Geduld auf die unterschiedlichen Kenntnisse und Fähigkeiten der Teilnehmerinnen und Teilnehmer ein. Sehr gern können auch eigene Stoffe mitgebracht werden. \n\n\n\nMit Kinderbetreuung
URL:https://schlaatz.de/veranstaltung/naehkurs/2025-02-03/
LOCATION:EJF Familienzentrum Bisamkiez\, Bisamkiez 26\, Potsdam\, 14478
ATTACH;FMTTYPE=image/jpeg:https://schlaatz.de/wp-content/uploads/2024/04/Naehkurs-Familienzentrum.jpg
ORGANIZER;CN="EJF Familienzentrum Bisamkiez":MAILTO:familienzentrum.potsdam@ejf.de
END:VEVENT
BEGIN:VEVENT
DTSTART;TZID=Europe/Berlin:20250203T090000
DTEND;TZID=Europe/Berlin:20250203T150000
DTSTAMP:20260421T020400
CREATED:20240422T084216Z
LAST-MODIFIED:20241217T082415Z
UID:10000519-1738573200-1738594800@schlaatz.de
SUMMARY:Eltern-Kind-Gruppe PLUS
DESCRIPTION:Ein Platz für Kinder\, um erste Freunde zu finden und eine Möglichkeit für Eltern\, Kontakte zu knüpfen und Hilfe bei Erziehungsfragen zu erhalten.  \n\n\n\nKostenfrei | Anmeldung erforderlich
URL:https://schlaatz.de/veranstaltung/eltern-kind-gruppe-plus/2025-02-03/
LOCATION:EJF Familienzentrum Bisamkiez\, Bisamkiez 26\, Potsdam\, 14478
ATTACH;FMTTYPE=image/jpeg:https://schlaatz.de/wp-content/uploads/2024/04/ElternKindGruppe-e1713785805231.jpg
ORGANIZER;CN="EJF Familienzentrum Bisamkiez":MAILTO:familienzentrum.potsdam@ejf.de
END:VEVENT
BEGIN:VEVENT
DTSTART;TZID=Europe/Berlin:20250131T090000
DTEND;TZID=Europe/Berlin:20250131T150000
DTSTAMP:20260421T020400
CREATED:20240422T084216Z
LAST-MODIFIED:20241217T082415Z
UID:10000518-1738314000-1738335600@schlaatz.de
SUMMARY:Eltern-Kind-Gruppe PLUS
DESCRIPTION:Ein Platz für Kinder\, um erste Freunde zu finden und eine Möglichkeit für Eltern\, Kontakte zu knüpfen und Hilfe bei Erziehungsfragen zu erhalten.  \n\n\n\nKostenfrei | Anmeldung erforderlich
URL:https://schlaatz.de/veranstaltung/eltern-kind-gruppe-plus/2025-01-31/
LOCATION:EJF Familienzentrum Bisamkiez\, Bisamkiez 26\, Potsdam\, 14478
ATTACH;FMTTYPE=image/jpeg:https://schlaatz.de/wp-content/uploads/2024/04/ElternKindGruppe-e1713785805231.jpg
ORGANIZER;CN="EJF Familienzentrum Bisamkiez":MAILTO:familienzentrum.potsdam@ejf.de
END:VEVENT
BEGIN:VEVENT
DTSTART;TZID=Europe/Berlin:20250130T090000
DTEND;TZID=Europe/Berlin:20250130T150000
DTSTAMP:20260421T020400
CREATED:20240422T084216Z
LAST-MODIFIED:20241217T082415Z
UID:10000517-1738227600-1738249200@schlaatz.de
SUMMARY:Eltern-Kind-Gruppe PLUS
DESCRIPTION:Ein Platz für Kinder\, um erste Freunde zu finden und eine Möglichkeit für Eltern\, Kontakte zu knüpfen und Hilfe bei Erziehungsfragen zu erhalten.  \n\n\n\nKostenfrei | Anmeldung erforderlich
URL:https://schlaatz.de/veranstaltung/eltern-kind-gruppe-plus/2025-01-30/
LOCATION:EJF Familienzentrum Bisamkiez\, Bisamkiez 26\, Potsdam\, 14478
ATTACH;FMTTYPE=image/jpeg:https://schlaatz.de/wp-content/uploads/2024/04/ElternKindGruppe-e1713785805231.jpg
ORGANIZER;CN="EJF Familienzentrum Bisamkiez":MAILTO:familienzentrum.potsdam@ejf.de
END:VEVENT
END:VCALENDAR