BEGIN:VCALENDAR
VERSION:2.0
PRODID:-//Schlaatz - ECPv6.15.20//NONSGML v1.0//EN
CALSCALE:GREGORIAN
METHOD:PUBLISH
X-ORIGINAL-URL:https://schlaatz.de
X-WR-CALDESC:Veranstaltungen für Schlaatz
REFRESH-INTERVAL;VALUE=DURATION:PT1H
X-Robots-Tag:noindex
X-PUBLISHED-TTL:PT1H
BEGIN:VTIMEZONE
TZID:Europe/Berlin
BEGIN:DAYLIGHT
TZOFFSETFROM:+0100
TZOFFSETTO:+0200
TZNAME:CEST
DTSTART:20230326T010000
END:DAYLIGHT
BEGIN:STANDARD
TZOFFSETFROM:+0200
TZOFFSETTO:+0100
TZNAME:CET
DTSTART:20231029T010000
END:STANDARD
BEGIN:DAYLIGHT
TZOFFSETFROM:+0100
TZOFFSETTO:+0200
TZNAME:CEST
DTSTART:20240331T010000
END:DAYLIGHT
BEGIN:STANDARD
TZOFFSETFROM:+0200
TZOFFSETTO:+0100
TZNAME:CET
DTSTART:20241027T010000
END:STANDARD
BEGIN:DAYLIGHT
TZOFFSETFROM:+0100
TZOFFSETTO:+0200
TZNAME:CEST
DTSTART:20250330T010000
END:DAYLIGHT
BEGIN:STANDARD
TZOFFSETFROM:+0200
TZOFFSETTO:+0100
TZNAME:CET
DTSTART:20251026T010000
END:STANDARD
END:VTIMEZONE
BEGIN:VEVENT
DTSTART;TZID=Europe/Berlin:20240510T120000
DTEND;TZID=Europe/Berlin:20240510T130000
DTSTAMP:20260419T172724
CREATED:20240422T112556Z
LAST-MODIFIED:20240422T113535Z
UID:10000995-1715342400-1715346000@schlaatz.de
SUMMARY:Nachbarschaftstreff am Suppentopf / Suppe "to go"
DESCRIPTION:Heute gibt es unseren leckeren Nachbarschaftstreff am Suppentopf zum Mitnehmen. Ein kleiner Plausch am Fenster\, ein leckeres warmes Essen und Informationen über Aktuelles aus dem Stadtteil und dem Angebot des Hauses bieten einen guten Start in die Woche und zum Wochenende.
URL:https://schlaatz.de/veranstaltung/nachbarschaftstreff-am-suppentopf-suppe-to-go/2024-05-10/
LOCATION:Friedrich Reinsch Haus\, Milanhorst 9\, Potsdam\, 14478
ATTACH;FMTTYPE=image/jpeg:https://schlaatz.de/wp-content/uploads/2024/04/Suppentopf-e1713785729782.jpg
ORGANIZER;CN="Friedrich Reinsch Haus":MAILTO:o.ronis@milanhorst-potsdam.de
END:VEVENT
BEGIN:VEVENT
DTSTART;TZID=Europe/Berlin:20240508T110000
DTEND;TZID=Europe/Berlin:20240508T120000
DTSTAMP:20260419T172724
CREATED:20240418T112627Z
LAST-MODIFIED:20241217T082118Z
UID:10000068-1715166000-1715169600@schlaatz.de
SUMMARY:Rücken & Relax | Tanzfitness für Seniorinnen und Senioren
DESCRIPTION:Bewegung in der Gruppe tut gut\, macht Spaß und motiviert. Der perfekte Ausgleich zum Alltag. Wer weniger fit ist oder nicht mehr alles kann\, ist hier genau richtig. Denn diese Kurse sind speziell auf Senior*innen und Anfänger*innen ausgerichtet und können auch bei akuten oder chronischen Beschwerden besucht werden. \n\n\n\nRücken & Relax mobilisiert den Körper\, verbessert Gleichgewicht und Körpergefühl und kräftigt und lockert die Muskeln ohne zu überanstrengen. \n\n\n\nTanzfitness ist ein sanftes und gelenkschonendes Tanzprogramm\, das nicht nur großen Spaß macht\, sondern auch Koordination und Kondition verbessert ohne zu überfordern. \n\n\n\nDer Raum ist barrierefrei
URL:https://schlaatz.de/veranstaltung/ruecken-relax-tanzfitness-fuer-seniorinnen-und-senioren/2024-05-08/
LOCATION:Friedrich Reinsch Haus\, Milanhorst 9\, Potsdam\, 14478
ATTACH;FMTTYPE=image/jpeg:https://schlaatz.de/wp-content/uploads/2024/04/Ruecken-und-Relax.jpg
END:VEVENT
BEGIN:VEVENT
DTSTART;TZID=Europe/Berlin:20240507T140000
DTEND;TZID=Europe/Berlin:20240507T163000
DTSTAMP:20260419T172724
CREATED:20240422T113427Z
LAST-MODIFIED:20240502T102732Z
UID:10001097-1715090400-1715099400@schlaatz.de
SUMMARY:Handarbeitsclub
DESCRIPTION:Unser Handarbeitsclub „Flinke Nadeln“ trifft sich immer dienstags in der Zeit von 14.00 bis 16.30 Uhr im Friedrich-Reinsch-Haus\, Milanhorst 9.Alt und Jung kommt zusammen\, um ein gemeinsames Hobby auszuüben\, Erfahrungen zu tauschen und Neues zu erlernen. Deshalb sind auch Anfänger herzlich willkommen\, die hier eine fachkundige Anleitung erhalten. Wir stricken\, häkeln und sticken.Aber wir wollen nicht nur stur über den Nadeln hängen\, sondern auch über Themen aus allen Lebenslagen quatschen. Dabei darf natürlich Kaffee und Kuchen nicht fehlen\, den abwechselnd unsere Teilnehmer mitbringen.Eigene Ideen und Vorschläge sind sehr willkommen.AnsprechpartnerAngelika Kluge\, Tel. 0331 86 02 45
URL:https://schlaatz.de/veranstaltung/579/2024-05-07/
LOCATION:Friedrich Reinsch Haus\, Milanhorst 9\, Potsdam\, 14478
ATTACH;FMTTYPE=image/jpeg:https://schlaatz.de/wp-content/uploads/2024/04/Handarbeitsclub-FRH-scaled.jpg
ORGANIZER;CN="Friedrich Reinsch Haus":MAILTO:o.ronis@milanhorst-potsdam.de
END:VEVENT
BEGIN:VEVENT
DTSTART;TZID=Europe/Berlin:20240507T120000
DTEND;TZID=Europe/Berlin:20240507T130000
DTSTAMP:20260419T172724
CREATED:20240422T112556Z
LAST-MODIFIED:20240422T113535Z
UID:10000994-1715083200-1715086800@schlaatz.de
SUMMARY:Nachbarschaftstreff am Suppentopf / Suppe "to go"
DESCRIPTION:Heute gibt es unseren leckeren Nachbarschaftstreff am Suppentopf zum Mitnehmen. Ein kleiner Plausch am Fenster\, ein leckeres warmes Essen und Informationen über Aktuelles aus dem Stadtteil und dem Angebot des Hauses bieten einen guten Start in die Woche und zum Wochenende.
URL:https://schlaatz.de/veranstaltung/nachbarschaftstreff-am-suppentopf-suppe-to-go/2024-05-07/
LOCATION:Friedrich Reinsch Haus\, Milanhorst 9\, Potsdam\, 14478
ATTACH;FMTTYPE=image/jpeg:https://schlaatz.de/wp-content/uploads/2024/04/Suppentopf-e1713785729782.jpg
ORGANIZER;CN="Friedrich Reinsch Haus":MAILTO:o.ronis@milanhorst-potsdam.de
END:VEVENT
BEGIN:VEVENT
DTSTART;TZID=Europe/Berlin:20240507T090000
DTEND;TZID=Europe/Berlin:20240507T100000
DTSTAMP:20260419T172724
CREATED:20240418T113244Z
LAST-MODIFIED:20241217T081226Z
UID:10000120-1715072400-1715076000@schlaatz.de
SUMMARY:Miteinander - Füreinander Seniorensport
DESCRIPTION:Jeden Dienstag treffen sich für Bewegung und zum Austausch die Seniorinnen und Senioren in unserem Haus. Unter Anleitung eines zertifizierten Trainers wird Beweglichkeit\, Ausdauer und Kraft gestärkt. Die Gemeinschaft innerhalb des Projektes geht weit über das reine Bewegungsangebot hinaus: Gespräche über Alltagssorgen und Infos aus dem Stadtteil\, eigene Feste zu Ostern und Weihnachten und die gemeinsame Teilnahme an Veranstaltungen im Stadtteil runden das Angebot ab.
URL:https://schlaatz.de/veranstaltung/miteinander-fuereinander-seniorensport/2024-05-07/
LOCATION:Friedrich Reinsch Haus\, Milanhorst 9\, Potsdam\, 14478
ATTACH;FMTTYPE=image/jpeg:https://schlaatz.de/wp-content/uploads/2024/04/Seniorensport-e1713785902147.jpg
ORGANIZER;CN="Friedrich Reinsch Haus":MAILTO:o.ronis@milanhorst-potsdam.de
END:VEVENT
BEGIN:VEVENT
DTSTART;TZID=Europe/Berlin:20240506T163000
DTEND;TZID=Europe/Berlin:20240506T190000
DTSTAMP:20260419T172724
CREATED:20240502T102501Z
LAST-MODIFIED:20240502T102607Z
UID:10001110-1715013000-1715022000@schlaatz.de
SUMMARY:Kreativ sein – Kunst machen
DESCRIPTION:Das Projekt „Kreativ sein – Kunst machen“ etabliert sich als künstlerisches Angebot für Kinder aus der Nachbarschaft. Das wöchentliche Angebot für Kinder im Alter von 6 bis 12 Jahren wird von Elena Gerlach begleitet. Für die Kinder werden verschiedene Kreativangebote zur Verfügung gestellt: alters- und interessengerecht. Im Mittelpunkt der Arbeiten steht immer die Förderung der individuellen Ausdrucksfähigkeit jedes Einzelnen und es werden Grundlagen vermittelt wie künstlerisches Gestalten\, Bild- und Farb- Komposition\, ein Gefühl für Proportion\, Räumlichkeit und Formempfinden. 
URL:https://schlaatz.de/veranstaltung/kreativ-sein-kunst-machen/2024-05-06/
LOCATION:Friedrich Reinsch Haus\, Milanhorst 9\, Potsdam\, 14478
ATTACH;FMTTYPE=image/jpeg:https://schlaatz.de/wp-content/uploads/2024/05/Kunst.jpg
ORGANIZER;CN="Friedrich Reinsch Haus":MAILTO:o.ronis@milanhorst-potsdam.de
END:VEVENT
BEGIN:VEVENT
DTSTART;TZID=Europe/Berlin:20240504T100000
DTEND;TZID=Europe/Berlin:20240504T120000
DTSTAMP:20260419T172724
CREATED:20240429T111901Z
LAST-MODIFIED:20240429T111901Z
UID:10001109-1714816800-1714824000@schlaatz.de
SUMMARY:Nachbarschaftsfrühstück
DESCRIPTION:Wir laden unsere Nachbarn und Nachbarinnen zum gemeinsamen Frühstück ein. In gemütlicher Atmosphäre kommen wir ins Gespräch über unseren Stadtteil\, lernen uns kennen und tauschen uns aus über alles\, das uns interessiert. Es gibt Livemusik mit Ralf und Ronald\, frisch aus dem Stadtteil\, zum Zuhören\, Freuen und vielleicht auch Mitsingen. \n\n\n\nAnmeldung bis Dienstag\, 30.04.2024.
URL:https://schlaatz.de/veranstaltung/nachbarschaftsfruehstueck/
LOCATION:Friedrich Reinsch Haus\, Milanhorst 9\, Potsdam\, 14478
ATTACH;FMTTYPE=image/jpeg:https://schlaatz.de/wp-content/uploads/2024/04/Nachbarschaftsfruehstueck.jpg
ORGANIZER;CN="Friedrich Reinsch Haus":MAILTO:o.ronis@milanhorst-potsdam.de
END:VEVENT
BEGIN:VEVENT
DTSTART;TZID=Europe/Berlin:20240503T120000
DTEND;TZID=Europe/Berlin:20240503T130000
DTSTAMP:20260419T172724
CREATED:20240422T112556Z
LAST-MODIFIED:20240422T113535Z
UID:10000993-1714737600-1714741200@schlaatz.de
SUMMARY:Nachbarschaftstreff am Suppentopf / Suppe "to go"
DESCRIPTION:Heute gibt es unseren leckeren Nachbarschaftstreff am Suppentopf zum Mitnehmen. Ein kleiner Plausch am Fenster\, ein leckeres warmes Essen und Informationen über Aktuelles aus dem Stadtteil und dem Angebot des Hauses bieten einen guten Start in die Woche und zum Wochenende.
URL:https://schlaatz.de/veranstaltung/nachbarschaftstreff-am-suppentopf-suppe-to-go/2024-05-03/
LOCATION:Friedrich Reinsch Haus\, Milanhorst 9\, Potsdam\, 14478
ATTACH;FMTTYPE=image/jpeg:https://schlaatz.de/wp-content/uploads/2024/04/Suppentopf-e1713785729782.jpg
ORGANIZER;CN="Friedrich Reinsch Haus":MAILTO:o.ronis@milanhorst-potsdam.de
END:VEVENT
BEGIN:VEVENT
DTSTART;TZID=Europe/Berlin:20240430T140000
DTEND;TZID=Europe/Berlin:20240430T163000
DTSTAMP:20260419T172724
CREATED:20240422T113427Z
LAST-MODIFIED:20240502T102732Z
UID:10001096-1714485600-1714494600@schlaatz.de
SUMMARY:Handarbeitsclub
DESCRIPTION:Unser Handarbeitsclub „Flinke Nadeln“ trifft sich immer dienstags in der Zeit von 14.00 bis 16.30 Uhr im Friedrich-Reinsch-Haus\, Milanhorst 9.Alt und Jung kommt zusammen\, um ein gemeinsames Hobby auszuüben\, Erfahrungen zu tauschen und Neues zu erlernen. Deshalb sind auch Anfänger herzlich willkommen\, die hier eine fachkundige Anleitung erhalten. Wir stricken\, häkeln und sticken.Aber wir wollen nicht nur stur über den Nadeln hängen\, sondern auch über Themen aus allen Lebenslagen quatschen. Dabei darf natürlich Kaffee und Kuchen nicht fehlen\, den abwechselnd unsere Teilnehmer mitbringen.Eigene Ideen und Vorschläge sind sehr willkommen.AnsprechpartnerAngelika Kluge\, Tel. 0331 86 02 45
URL:https://schlaatz.de/veranstaltung/579/2024-04-30/
LOCATION:Friedrich Reinsch Haus\, Milanhorst 9\, Potsdam\, 14478
ATTACH;FMTTYPE=image/jpeg:https://schlaatz.de/wp-content/uploads/2024/04/Handarbeitsclub-FRH-scaled.jpg
ORGANIZER;CN="Friedrich Reinsch Haus":MAILTO:o.ronis@milanhorst-potsdam.de
END:VEVENT
BEGIN:VEVENT
DTSTART;TZID=Europe/Berlin:20240430T120000
DTEND;TZID=Europe/Berlin:20240430T130000
DTSTAMP:20260419T172724
CREATED:20240422T112556Z
LAST-MODIFIED:20240422T113535Z
UID:10000992-1714478400-1714482000@schlaatz.de
SUMMARY:Nachbarschaftstreff am Suppentopf / Suppe "to go"
DESCRIPTION:Heute gibt es unseren leckeren Nachbarschaftstreff am Suppentopf zum Mitnehmen. Ein kleiner Plausch am Fenster\, ein leckeres warmes Essen und Informationen über Aktuelles aus dem Stadtteil und dem Angebot des Hauses bieten einen guten Start in die Woche und zum Wochenende.
URL:https://schlaatz.de/veranstaltung/nachbarschaftstreff-am-suppentopf-suppe-to-go/2024-04-30/
LOCATION:Friedrich Reinsch Haus\, Milanhorst 9\, Potsdam\, 14478
ATTACH;FMTTYPE=image/jpeg:https://schlaatz.de/wp-content/uploads/2024/04/Suppentopf-e1713785729782.jpg
ORGANIZER;CN="Friedrich Reinsch Haus":MAILTO:o.ronis@milanhorst-potsdam.de
END:VEVENT
BEGIN:VEVENT
DTSTART;TZID=Europe/Berlin:20240430T090000
DTEND;TZID=Europe/Berlin:20240430T100000
DTSTAMP:20260419T172724
CREATED:20240418T113244Z
LAST-MODIFIED:20241217T081226Z
UID:10000119-1714467600-1714471200@schlaatz.de
SUMMARY:Miteinander - Füreinander Seniorensport
DESCRIPTION:Jeden Dienstag treffen sich für Bewegung und zum Austausch die Seniorinnen und Senioren in unserem Haus. Unter Anleitung eines zertifizierten Trainers wird Beweglichkeit\, Ausdauer und Kraft gestärkt. Die Gemeinschaft innerhalb des Projektes geht weit über das reine Bewegungsangebot hinaus: Gespräche über Alltagssorgen und Infos aus dem Stadtteil\, eigene Feste zu Ostern und Weihnachten und die gemeinsame Teilnahme an Veranstaltungen im Stadtteil runden das Angebot ab.
URL:https://schlaatz.de/veranstaltung/miteinander-fuereinander-seniorensport/2024-04-30/
LOCATION:Friedrich Reinsch Haus\, Milanhorst 9\, Potsdam\, 14478
ATTACH;FMTTYPE=image/jpeg:https://schlaatz.de/wp-content/uploads/2024/04/Seniorensport-e1713785902147.jpg
ORGANIZER;CN="Friedrich Reinsch Haus":MAILTO:o.ronis@milanhorst-potsdam.de
END:VEVENT
BEGIN:VEVENT
DTSTART;TZID=Europe/Berlin:20240426T120000
DTEND;TZID=Europe/Berlin:20240426T130000
DTSTAMP:20260419T172724
CREATED:20240422T112556Z
LAST-MODIFIED:20240422T113535Z
UID:10000991-1714132800-1714136400@schlaatz.de
SUMMARY:Nachbarschaftstreff am Suppentopf / Suppe "to go"
DESCRIPTION:Heute gibt es unseren leckeren Nachbarschaftstreff am Suppentopf zum Mitnehmen. Ein kleiner Plausch am Fenster\, ein leckeres warmes Essen und Informationen über Aktuelles aus dem Stadtteil und dem Angebot des Hauses bieten einen guten Start in die Woche und zum Wochenende.
URL:https://schlaatz.de/veranstaltung/nachbarschaftstreff-am-suppentopf-suppe-to-go/2024-04-26/
LOCATION:Friedrich Reinsch Haus\, Milanhorst 9\, Potsdam\, 14478
ATTACH;FMTTYPE=image/jpeg:https://schlaatz.de/wp-content/uploads/2024/04/Suppentopf-e1713785729782.jpg
ORGANIZER;CN="Friedrich Reinsch Haus":MAILTO:o.ronis@milanhorst-potsdam.de
END:VEVENT
BEGIN:VEVENT
DTSTART;TZID=Europe/Berlin:20240424T110000
DTEND;TZID=Europe/Berlin:20240424T120000
DTSTAMP:20260419T172724
CREATED:20240418T112627Z
LAST-MODIFIED:20241217T082118Z
UID:10000067-1713956400-1713960000@schlaatz.de
SUMMARY:Rücken & Relax | Tanzfitness für Seniorinnen und Senioren
DESCRIPTION:Bewegung in der Gruppe tut gut\, macht Spaß und motiviert. Der perfekte Ausgleich zum Alltag. Wer weniger fit ist oder nicht mehr alles kann\, ist hier genau richtig. Denn diese Kurse sind speziell auf Senior*innen und Anfänger*innen ausgerichtet und können auch bei akuten oder chronischen Beschwerden besucht werden. \n\n\n\nRücken & Relax mobilisiert den Körper\, verbessert Gleichgewicht und Körpergefühl und kräftigt und lockert die Muskeln ohne zu überanstrengen. \n\n\n\nTanzfitness ist ein sanftes und gelenkschonendes Tanzprogramm\, das nicht nur großen Spaß macht\, sondern auch Koordination und Kondition verbessert ohne zu überfordern. \n\n\n\nDer Raum ist barrierefrei
URL:https://schlaatz.de/veranstaltung/ruecken-relax-tanzfitness-fuer-seniorinnen-und-senioren/2024-04-24/
LOCATION:Friedrich Reinsch Haus\, Milanhorst 9\, Potsdam\, 14478
ATTACH;FMTTYPE=image/jpeg:https://schlaatz.de/wp-content/uploads/2024/04/Ruecken-und-Relax.jpg
END:VEVENT
BEGIN:VEVENT
DTSTART;TZID=Europe/Berlin:20240423T140000
DTEND;TZID=Europe/Berlin:20240423T163000
DTSTAMP:20260419T172724
CREATED:20240422T113427Z
LAST-MODIFIED:20240502T102732Z
UID:10001095-1713880800-1713889800@schlaatz.de
SUMMARY:Handarbeitsclub
DESCRIPTION:Unser Handarbeitsclub „Flinke Nadeln“ trifft sich immer dienstags in der Zeit von 14.00 bis 16.30 Uhr im Friedrich-Reinsch-Haus\, Milanhorst 9.Alt und Jung kommt zusammen\, um ein gemeinsames Hobby auszuüben\, Erfahrungen zu tauschen und Neues zu erlernen. Deshalb sind auch Anfänger herzlich willkommen\, die hier eine fachkundige Anleitung erhalten. Wir stricken\, häkeln und sticken.Aber wir wollen nicht nur stur über den Nadeln hängen\, sondern auch über Themen aus allen Lebenslagen quatschen. Dabei darf natürlich Kaffee und Kuchen nicht fehlen\, den abwechselnd unsere Teilnehmer mitbringen.Eigene Ideen und Vorschläge sind sehr willkommen.AnsprechpartnerAngelika Kluge\, Tel. 0331 86 02 45
URL:https://schlaatz.de/veranstaltung/579/2024-04-23/
LOCATION:Friedrich Reinsch Haus\, Milanhorst 9\, Potsdam\, 14478
ATTACH;FMTTYPE=image/jpeg:https://schlaatz.de/wp-content/uploads/2024/04/Handarbeitsclub-FRH-scaled.jpg
ORGANIZER;CN="Friedrich Reinsch Haus":MAILTO:o.ronis@milanhorst-potsdam.de
END:VEVENT
BEGIN:VEVENT
DTSTART;TZID=Europe/Berlin:20240423T120000
DTEND;TZID=Europe/Berlin:20240423T130000
DTSTAMP:20260419T172724
CREATED:20240422T112556Z
LAST-MODIFIED:20240422T113535Z
UID:10000990-1713873600-1713877200@schlaatz.de
SUMMARY:Nachbarschaftstreff am Suppentopf / Suppe "to go"
DESCRIPTION:Heute gibt es unseren leckeren Nachbarschaftstreff am Suppentopf zum Mitnehmen. Ein kleiner Plausch am Fenster\, ein leckeres warmes Essen und Informationen über Aktuelles aus dem Stadtteil und dem Angebot des Hauses bieten einen guten Start in die Woche und zum Wochenende.
URL:https://schlaatz.de/veranstaltung/nachbarschaftstreff-am-suppentopf-suppe-to-go/2024-04-23/
LOCATION:Friedrich Reinsch Haus\, Milanhorst 9\, Potsdam\, 14478
ATTACH;FMTTYPE=image/jpeg:https://schlaatz.de/wp-content/uploads/2024/04/Suppentopf-e1713785729782.jpg
ORGANIZER;CN="Friedrich Reinsch Haus":MAILTO:o.ronis@milanhorst-potsdam.de
END:VEVENT
BEGIN:VEVENT
DTSTART;TZID=Europe/Berlin:20240423T090000
DTEND;TZID=Europe/Berlin:20240423T100000
DTSTAMP:20260419T172724
CREATED:20240418T113244Z
LAST-MODIFIED:20241217T081226Z
UID:10000118-1713862800-1713866400@schlaatz.de
SUMMARY:Miteinander - Füreinander Seniorensport
DESCRIPTION:Jeden Dienstag treffen sich für Bewegung und zum Austausch die Seniorinnen und Senioren in unserem Haus. Unter Anleitung eines zertifizierten Trainers wird Beweglichkeit\, Ausdauer und Kraft gestärkt. Die Gemeinschaft innerhalb des Projektes geht weit über das reine Bewegungsangebot hinaus: Gespräche über Alltagssorgen und Infos aus dem Stadtteil\, eigene Feste zu Ostern und Weihnachten und die gemeinsame Teilnahme an Veranstaltungen im Stadtteil runden das Angebot ab.
URL:https://schlaatz.de/veranstaltung/miteinander-fuereinander-seniorensport/2024-04-23/
LOCATION:Friedrich Reinsch Haus\, Milanhorst 9\, Potsdam\, 14478
ATTACH;FMTTYPE=image/jpeg:https://schlaatz.de/wp-content/uploads/2024/04/Seniorensport-e1713785902147.jpg
ORGANIZER;CN="Friedrich Reinsch Haus":MAILTO:o.ronis@milanhorst-potsdam.de
END:VEVENT
END:VCALENDAR