BEGIN:VCALENDAR
VERSION:2.0
PRODID:-//Schlaatz - ECPv6.15.20//NONSGML v1.0//EN
CALSCALE:GREGORIAN
METHOD:PUBLISH
X-WR-CALNAME:Schlaatz
X-ORIGINAL-URL:https://schlaatz.de
X-WR-CALDESC:Veranstaltungen für Schlaatz
REFRESH-INTERVAL;VALUE=DURATION:PT1H
X-Robots-Tag:noindex
X-PUBLISHED-TTL:PT1H
BEGIN:VTIMEZONE
TZID:Europe/Berlin
BEGIN:DAYLIGHT
TZOFFSETFROM:+0100
TZOFFSETTO:+0200
TZNAME:CEST
DTSTART:20230326T010000
END:DAYLIGHT
BEGIN:STANDARD
TZOFFSETFROM:+0200
TZOFFSETTO:+0100
TZNAME:CET
DTSTART:20231029T010000
END:STANDARD
BEGIN:DAYLIGHT
TZOFFSETFROM:+0100
TZOFFSETTO:+0200
TZNAME:CEST
DTSTART:20240331T010000
END:DAYLIGHT
BEGIN:STANDARD
TZOFFSETFROM:+0200
TZOFFSETTO:+0100
TZNAME:CET
DTSTART:20241027T010000
END:STANDARD
BEGIN:DAYLIGHT
TZOFFSETFROM:+0100
TZOFFSETTO:+0200
TZNAME:CEST
DTSTART:20250330T010000
END:DAYLIGHT
BEGIN:STANDARD
TZOFFSETFROM:+0200
TZOFFSETTO:+0100
TZNAME:CET
DTSTART:20251026T010000
END:STANDARD
END:VTIMEZONE
BEGIN:VEVENT
DTSTART;TZID=Europe/Berlin:20241216T150000
DTEND;TZID=Europe/Berlin:20241216T170000
DTSTAMP:20260424T004020
CREATED:20241127T123410Z
LAST-MODIFIED:20241127T123411Z
UID:10001329-1734361200-1734368400@schlaatz.de
SUMMARY:Basteln mit Nori!
DESCRIPTION:Basteln mit Nori! Jede und Jeder kann eine Bastelidee mitbringen – dann wird ganz spontan geschaut\, worauf jede Person Lust hat und dann wird drauflosgebastelt! Los geht es um 14:00 Uhr bei Kirche im Kiez.
URL:https://schlaatz.de/veranstaltung/basteln-mit-nori/
LOCATION:Kirche im Kiez\, Schilfhof 18\, Potsdam\, 14478
ATTACH;FMTTYPE=image/jpeg:https://schlaatz.de/wp-content/uploads/2024/11/jars-1166243_1280.jpg
ORGANIZER;CN="Kirche im Kiez":MAILTO:kircheimkiez@evkirchepotsdam.de
END:VEVENT
BEGIN:VEVENT
DTSTART;TZID=Europe/Berlin:20241208T163000
DTEND;TZID=Europe/Berlin:20241208T173000
DTSTAMP:20260424T004020
CREATED:20241127T115203Z
LAST-MODIFIED:20241127T115928Z
UID:10001320-1733675400-1733679000@schlaatz.de
SUMMARY:Advents-Balkon-Konzert
DESCRIPTION:
URL:https://schlaatz.de/veranstaltung/advents-balkon-konzert/
LOCATION:Kirche im Kiez\, Schilfhof 18\, Potsdam\, 14478
ATTACH;FMTTYPE=image/png:https://schlaatz.de/wp-content/uploads/2024/11/logo_2_kirche-im-kiez.png
ORGANIZER;CN="Kirche im Kiez":MAILTO:kircheimkiez@evkirchepotsdam.de
END:VEVENT
BEGIN:VEVENT
DTSTART;TZID=Europe/Berlin:20241205T160000
DTEND;TZID=Europe/Berlin:20241205T173000
DTSTAMP:20260424T004020
CREATED:20241127T114645Z
LAST-MODIFIED:20241127T114646Z
UID:10001316-1733414400-1733419800@schlaatz.de
SUMMARY:Advents-Begegnungsnachmittag
DESCRIPTION:Kirche im Kiez lädt von 16:00 – 17:30 Uhr zum Begegnungsnachmittag in die Kiezräume Schilfhof 18 ein. Es werden Bienenwachstücher selbst gebastelt.
URL:https://schlaatz.de/veranstaltung/advents-begegnungsnachmittag/
LOCATION:Kirche im Kiez\, Schilfhof 18\, Potsdam\, 14478
ATTACH;FMTTYPE=image/jpeg:https://schlaatz.de/wp-content/uploads/2024/11/bees-326337_1280.jpg
ORGANIZER;CN="Kirche im Kiez":MAILTO:kircheimkiez@evkirchepotsdam.de
END:VEVENT
BEGIN:VEVENT
DTSTART;TZID=Europe/Berlin:20240530T160000
DTEND;TZID=Europe/Berlin:20240530T173000
DTSTAMP:20260424T004020
CREATED:20240419T093734Z
LAST-MODIFIED:20240419T093734Z
UID:10000279-1717084800-1717090200@schlaatz.de
SUMMARY:Begegnungsnachmittag
DESCRIPTION:Quatschen\, philosophieren\, spielen\, Tee trinken\, über Gott und die Welt nachdenken!
URL:https://schlaatz.de/veranstaltung/begegnungsnachmittag/2024-05-30/
LOCATION:Kirche im Kiez\, Schilfhof 18\, Potsdam\, 14478
ORGANIZER;CN="Kirche im Kiez":MAILTO:kircheimkiez@evkirchepotsdam.de
END:VEVENT
BEGIN:VEVENT
DTSTART;TZID=Europe/Berlin:20240523T160000
DTEND;TZID=Europe/Berlin:20240523T173000
DTSTAMP:20260424T004020
CREATED:20240419T093734Z
LAST-MODIFIED:20240419T093734Z
UID:10000278-1716480000-1716485400@schlaatz.de
SUMMARY:Begegnungsnachmittag
DESCRIPTION:Quatschen\, philosophieren\, spielen\, Tee trinken\, über Gott und die Welt nachdenken!
URL:https://schlaatz.de/veranstaltung/begegnungsnachmittag/2024-05-23/
LOCATION:Kirche im Kiez\, Schilfhof 18\, Potsdam\, 14478
ORGANIZER;CN="Kirche im Kiez":MAILTO:kircheimkiez@evkirchepotsdam.de
END:VEVENT
BEGIN:VEVENT
DTSTART;TZID=Europe/Berlin:20240516T160000
DTEND;TZID=Europe/Berlin:20240516T173000
DTSTAMP:20260424T004020
CREATED:20240419T093734Z
LAST-MODIFIED:20240419T093734Z
UID:10000277-1715875200-1715880600@schlaatz.de
SUMMARY:Begegnungsnachmittag
DESCRIPTION:Quatschen\, philosophieren\, spielen\, Tee trinken\, über Gott und die Welt nachdenken!
URL:https://schlaatz.de/veranstaltung/begegnungsnachmittag/2024-05-16/
LOCATION:Kirche im Kiez\, Schilfhof 18\, Potsdam\, 14478
ORGANIZER;CN="Kirche im Kiez":MAILTO:kircheimkiez@evkirchepotsdam.de
END:VEVENT
BEGIN:VEVENT
DTSTART;TZID=Europe/Berlin:20240509T160000
DTEND;TZID=Europe/Berlin:20240509T173000
DTSTAMP:20260424T004020
CREATED:20240419T093734Z
LAST-MODIFIED:20240419T093734Z
UID:10000276-1715270400-1715275800@schlaatz.de
SUMMARY:Begegnungsnachmittag
DESCRIPTION:Quatschen\, philosophieren\, spielen\, Tee trinken\, über Gott und die Welt nachdenken!
URL:https://schlaatz.de/veranstaltung/begegnungsnachmittag/2024-05-09/
LOCATION:Kirche im Kiez\, Schilfhof 18\, Potsdam\, 14478
ORGANIZER;CN="Kirche im Kiez":MAILTO:kircheimkiez@evkirchepotsdam.de
END:VEVENT
BEGIN:VEVENT
DTSTART;TZID=Europe/Berlin:20240425T160000
DTEND;TZID=Europe/Berlin:20240425T173000
DTSTAMP:20260424T004020
CREATED:20240419T093734Z
LAST-MODIFIED:20240419T093734Z
UID:10000275-1714060800-1714066200@schlaatz.de
SUMMARY:Begegnungsnachmittag
DESCRIPTION:Quatschen\, philosophieren\, spielen\, Tee trinken\, über Gott und die Welt nachdenken!
URL:https://schlaatz.de/veranstaltung/begegnungsnachmittag/2024-04-25/
LOCATION:Kirche im Kiez\, Schilfhof 18\, Potsdam\, 14478
ORGANIZER;CN="Kirche im Kiez":MAILTO:kircheimkiez@evkirchepotsdam.de
END:VEVENT
END:VCALENDAR